BEGIN:VCALENDAR
VERSION:2.0
PRODID:-//spbstu.ru//ical//RU
NAME:Расписание
X-WR-CALNAME:Расписание
TIMEZONE-ID:Europe/Moscow
X-WR-TIMEZONE:Europe/Moscow
BEGIN:VEVENT
UID:qw1k@192.168.245.71:3006
SEQUENCE:0
DTSTAMP:20260423T010849Z
DTSTART:20251202T130000Z
DTEND:20251202T144000Z
SUMMARY:Введение в профессиональную деятельность
LOCATION:3 к. 402
END:VEVENT
BEGIN:VEVENT
UID:tnbc@192.168.245.71:3006
SEQUENCE:0
DTSTAMP:20260423T010849Z
DTSTART:20251203T130000Z
DTEND:20251203T144000Z
SUMMARY:Введение в профессиональную деятельность
LOCATION:3 к. 201
END:VEVENT
BEGIN:VEVENT
UID:lz3c@192.168.245.71:3006
SEQUENCE:0
DTSTAMP:20260423T010849Z
DTSTART:20251204T090000Z
DTEND:20251204T104000Z
SUMMARY:Введение в профессиональную деятельность
LOCATION:3 к. 215
END:VEVENT
BEGIN:VEVENT
UID:0q63@192.168.245.71:3006
SEQUENCE:0
DTSTAMP:20260423T010849Z
DTSTART:20251204T110000Z
DTEND:20251204T124000Z
SUMMARY:Введение в профессиональную деятельность
LOCATION:3 к. 402
END:VEVENT
BEGIN:VEVENT
UID:1y6y@192.168.245.71:3006
SEQUENCE:0
DTSTAMP:20260423T010849Z
DTSTART:20251205T090000Z
DTEND:20251205T104000Z
SUMMARY:Комплексная курсовая работа Автоматизация проектирования дискретны
 х устройств
LOCATION:3 к. 503
END:VEVENT
END:VCALENDAR