BEGIN:VCALENDAR
VERSION:2.0
PRODID:-//spbstu.ru//ical//RU
NAME:Расписание
X-WR-CALNAME:Расписание
TIMEZONE-ID:Europe/Moscow
X-WR-TIMEZONE:Europe/Moscow
BEGIN:VEVENT
UID:rwxb@192.168.245.71:3006
SEQUENCE:0
DTSTAMP:20260424T215400Z
DTSTART:20251007T090000Z
DTEND:20251007T104000Z
SUMMARY:Параллельное программирование на суперкомпьютерных системах
LOCATION:НИК А1.08
END:VEVENT
BEGIN:VEVENT
UID:wjkk@192.168.245.71:3006
SEQUENCE:0
DTSTAMP:20260424T215400Z
DTSTART:20251007T110000Z
DTEND:20251007T115000Z
SUMMARY:Параллельное программирование на суперкомпьютерных системах
LOCATION:НИК А1.08
END:VEVENT
BEGIN:VEVENT
UID:ksov@192.168.245.71:3006
SEQUENCE:0
DTSTAMP:20260424T215400Z
DTSTART:20251008T070000Z
DTEND:20251008T084000Z
SUMMARY:Параллельное программирование
LOCATION:11 к. 107
END:VEVENT
BEGIN:VEVENT
UID:8slh@192.168.245.71:3006
SEQUENCE:0
DTSTAMP:20260424T215400Z
DTSTART:20251008T090000Z
DTEND:20251008T104000Z
SUMMARY:Параллельное программирование
LOCATION:НИК А1.08
END:VEVENT
BEGIN:VEVENT
UID:uode@192.168.245.71:3006
SEQUENCE:0
DTSTAMP:20260424T215400Z
DTSTART:20251008T130000Z
DTEND:20251008T144000Z
SUMMARY:Параллельное программирование
LOCATION:НИК А1.08
END:VEVENT
BEGIN:VEVENT
UID:zi22@192.168.245.71:3006
SEQUENCE:0
DTSTAMP:20260424T215400Z
DTSTART:20251009T060000Z
DTEND:20251009T074000Z
SUMMARY:Современные технологии облачных вычислений
LOCATION:НИК А1.08
END:VEVENT
BEGIN:VEVENT
UID:2cx6@192.168.245.71:3006
SEQUENCE:0
DTSTAMP:20260424T215400Z
DTSTART:20251009T080000Z
DTEND:20251009T094000Z
SUMMARY:Современные технологии облачных вычислений
LOCATION:НИК А1.08
END:VEVENT
BEGIN:VEVENT
UID:jls7@192.168.245.71:3006
SEQUENCE:0
DTSTAMP:20260424T215400Z
DTSTART:20251009T100000Z
DTEND:20251009T105000Z
SUMMARY:Современные технологии облачных вычислений
LOCATION:НИК А1.08
END:VEVENT
END:VCALENDAR