BEGIN:VCALENDAR
VERSION:2.0
PRODID:-//spbstu.ru//ical//RU
NAME:Расписание
X-WR-CALNAME:Расписание
TIMEZONE-ID:Europe/Moscow
X-WR-TIMEZONE:Europe/Moscow
BEGIN:VEVENT
UID:ue7l@192.168.245.71:3006
SEQUENCE:0
DTSTAMP:20260423T075637Z
DTSTART:20251209T090000Z
DTEND:20251209T104000Z
SUMMARY:Параллельное программирование на суперкомпьютерных системах
LOCATION:НИК А1.08
END:VEVENT
BEGIN:VEVENT
UID:v1xa@192.168.245.71:3006
SEQUENCE:0
DTSTAMP:20260423T075637Z
DTSTART:20251209T110000Z
DTEND:20251209T115000Z
SUMMARY:Параллельное программирование на суперкомпьютерных системах
LOCATION:НИК А1.08
END:VEVENT
BEGIN:VEVENT
UID:fcvr@192.168.245.71:3006
SEQUENCE:0
DTSTAMP:20260423T075637Z
DTSTART:20251210T070000Z
DTEND:20251210T084000Z
SUMMARY:Параллельное программирование
LOCATION:11 к. 107
END:VEVENT
BEGIN:VEVENT
UID:liq8@192.168.245.71:3006
SEQUENCE:0
DTSTAMP:20260423T075637Z
DTSTART:20251210T090000Z
DTEND:20251210T104000Z
SUMMARY:Параллельное программирование
LOCATION:НИК А1.08
END:VEVENT
BEGIN:VEVENT
UID:blkf@192.168.245.71:3006
SEQUENCE:0
DTSTAMP:20260423T075637Z
DTSTART:20251210T130000Z
DTEND:20251210T144000Z
SUMMARY:Параллельное программирование
LOCATION:НИК А1.08
END:VEVENT
BEGIN:VEVENT
UID:j5w0@192.168.245.71:3006
SEQUENCE:0
DTSTAMP:20260423T075637Z
DTSTART:20251211T060000Z
DTEND:20251211T074000Z
SUMMARY:Современные технологии облачных вычислений
LOCATION:НИК А1.08
END:VEVENT
BEGIN:VEVENT
UID:4zto@192.168.245.71:3006
SEQUENCE:0
DTSTAMP:20260423T075637Z
DTSTART:20251211T080000Z
DTEND:20251211T094000Z
SUMMARY:Современные технологии облачных вычислений
LOCATION:НИК А1.08
END:VEVENT
BEGIN:VEVENT
UID:hruz@192.168.245.71:3006
SEQUENCE:0
DTSTAMP:20260423T075637Z
DTSTART:20251211T100000Z
DTEND:20251211T105000Z
SUMMARY:Современные технологии облачных вычислений
LOCATION:НИК А1.08
END:VEVENT
END:VCALENDAR