BEGIN:VCALENDAR
VERSION:2.0
PRODID:-//spbstu.ru//ical//RU
NAME:Расписание
X-WR-CALNAME:Расписание
TIMEZONE-ID:Europe/Moscow
X-WR-TIMEZONE:Europe/Moscow
BEGIN:VEVENT
UID:i9hx@192.168.245.71:3006
SEQUENCE:0
DTSTAMP:20260422T110716Z
DTSTART:20260216T070000Z
DTEND:20260216T084000Z
SUMMARY:Современные технологии разработки программного обеспечения
LOCATION:11 к. 329
END:VEVENT
BEGIN:VEVENT
UID:e0al@192.168.245.71:3006
SEQUENCE:0
DTSTAMP:20260422T110716Z
DTSTART:20260216T070000Z
DTEND:20260216T084000Z
SUMMARY:Современные технологии разработки программного обеспечения
LOCATION:11 к. 329
END:VEVENT
BEGIN:VEVENT
UID:ffd6@192.168.245.71:3006
SEQUENCE:0
DTSTAMP:20260422T110716Z
DTSTART:20260216T090000Z
DTEND:20260216T104000Z
SUMMARY:Современные технологии разработки программного обеспечения
LOCATION:11 к. 329
END:VEVENT
BEGIN:VEVENT
UID:bh3s@192.168.245.71:3006
SEQUENCE:0
DTSTAMP:20260422T110716Z
DTSTART:20260216T090000Z
DTEND:20260216T104000Z
SUMMARY:Современные технологии разработки программного обеспечения
LOCATION:11 к. 329
END:VEVENT
BEGIN:VEVENT
UID:gyc8@192.168.245.71:3006
SEQUENCE:0
DTSTAMP:20260422T110716Z
DTSTART:20260216T110000Z
DTEND:20260216T124000Z
SUMMARY:Современные технологии разработки программного обеспечения
LOCATION:11 к. 329
END:VEVENT
BEGIN:VEVENT
UID:fgjx@192.168.245.71:3006
SEQUENCE:0
DTSTAMP:20260422T110716Z
DTSTART:20260217T070000Z
DTEND:20260217T075000Z
SUMMARY:Облачные вычисления
LOCATION:НИК А1.08
END:VEVENT
BEGIN:VEVENT
UID:2k0b@192.168.245.71:3006
SEQUENCE:0
DTSTAMP:20260422T110716Z
DTSTART:20260217T080000Z
DTEND:20260217T104000Z
SUMMARY:Облачные вычисления
LOCATION:НИК А1.08
END:VEVENT
BEGIN:VEVENT
UID:7hyl@192.168.245.71:3006
SEQUENCE:0
DTSTAMP:20260422T110716Z
DTSTART:20260217T150000Z
DTEND:20260217T170000Z
SUMMARY:Параллельное программирование
LOCATION:НИК А1.08
END:VEVENT
BEGIN:VEVENT
UID:8sho@192.168.245.71:3006
SEQUENCE:0
DTSTAMP:20260422T110716Z
DTSTART:20260219T070000Z
DTEND:20260219T075000Z
SUMMARY:Программирование на языке JAVA
LOCATION:11 к. 107
END:VEVENT
BEGIN:VEVENT
UID:cs41@192.168.245.71:3006
SEQUENCE:0
DTSTAMP:20260422T110716Z
DTSTART:20260220T090000Z
DTEND:20260220T104000Z
SUMMARY:Современные технологии разработки программного обеспечения
LOCATION:3 к. 201
END:VEVENT
BEGIN:VEVENT
UID:6m9c@192.168.245.71:3006
SEQUENCE:0
DTSTAMP:20260422T110716Z
DTSTART:20260220T110000Z
DTEND:20260220T124000Z
SUMMARY:Современные технологии разработки программного обеспечения
LOCATION:4 к. 308-2
END:VEVENT
BEGIN:VEVENT
UID:d9x8@192.168.245.71:3006
SEQUENCE:0
DTSTAMP:20260422T110716Z
DTSTART:20260220T110000Z
DTEND:20260220T124000Z
SUMMARY:Современные технологии разработки программного обеспечения
LOCATION:4 к. 305-2
END:VEVENT
BEGIN:VEVENT
UID:dxy2@192.168.245.71:3006
SEQUENCE:0
DTSTAMP:20260422T110716Z
DTSTART:20260220T130000Z
DTEND:20260220T144000Z
SUMMARY:Современные технологии разработки программного обеспечения
LOCATION:4 к. 308-2
END:VEVENT
END:VCALENDAR