BEGIN:VCALENDAR
VERSION:2.0
PRODID:-//spbstu.ru//ical//RU
NAME:Расписание
X-WR-CALNAME:Расписание
TIMEZONE-ID:Europe/Moscow
X-WR-TIMEZONE:Europe/Moscow
BEGIN:VEVENT
UID:03hx@192.168.245.71:3006
SEQUENCE:0
DTSTAMP:20260421T114842Z
DTSTART:20260427T070000Z
DTEND:20260427T084000Z
SUMMARY:Современные технологии разработки программного обеспечения
LOCATION:11 к. 329
END:VEVENT
BEGIN:VEVENT
UID:ca3x@192.168.245.71:3006
SEQUENCE:0
DTSTAMP:20260421T114842Z
DTSTART:20260427T070000Z
DTEND:20260427T084000Z
SUMMARY:Современные технологии разработки программного обеспечения
LOCATION:11 к. 329
END:VEVENT
BEGIN:VEVENT
UID:dxaf@192.168.245.71:3006
SEQUENCE:0
DTSTAMP:20260421T114842Z
DTSTART:20260427T090000Z
DTEND:20260427T104000Z
SUMMARY:Современные технологии разработки программного обеспечения
LOCATION:11 к. 329
END:VEVENT
BEGIN:VEVENT
UID:018q@192.168.245.71:3006
SEQUENCE:0
DTSTAMP:20260421T114842Z
DTSTART:20260427T090000Z
DTEND:20260427T104000Z
SUMMARY:Современные технологии разработки программного обеспечения
LOCATION:11 к. 329
END:VEVENT
BEGIN:VEVENT
UID:e7u1@192.168.245.71:3006
SEQUENCE:0
DTSTAMP:20260421T114842Z
DTSTART:20260427T110000Z
DTEND:20260427T124000Z
SUMMARY:Современные технологии разработки программного обеспечения
LOCATION:11 к. 329
END:VEVENT
BEGIN:VEVENT
UID:iowv@192.168.245.71:3006
SEQUENCE:0
DTSTAMP:20260421T114842Z
DTSTART:20260428T070000Z
DTEND:20260428T075000Z
SUMMARY:Облачные вычисления
LOCATION:НИК А1.08
END:VEVENT
BEGIN:VEVENT
UID:ndk4@192.168.245.71:3006
SEQUENCE:0
DTSTAMP:20260421T114842Z
DTSTART:20260428T080000Z
DTEND:20260428T104000Z
SUMMARY:Облачные вычисления
LOCATION:НИК А1.08
END:VEVENT
BEGIN:VEVENT
UID:hrzl@192.168.245.71:3006
SEQUENCE:0
DTSTAMP:20260421T114842Z
DTSTART:20260430T070000Z
DTEND:20260430T075000Z
SUMMARY:Программирование на языке JAVA
LOCATION:11 к. 107
END:VEVENT
END:VCALENDAR