BEGIN:VCALENDAR
VERSION:2.0
PRODID:-//spbstu.ru//ical//RU
NAME:Расписание
X-WR-CALNAME:Расписание
TIMEZONE-ID:Europe/Moscow
X-WR-TIMEZONE:Europe/Moscow
BEGIN:VEVENT
UID:zpb1@192.168.245.71:3006
SEQUENCE:0
DTSTAMP:20260423T132233Z
DTSTART:20251117T090000Z
DTEND:20251117T104000Z
SUMMARY:Физика
LOCATION:ГЗ 155
END:VEVENT
BEGIN:VEVENT
UID:dgc7@192.168.245.71:3006
SEQUENCE:0
DTSTAMP:20260423T132233Z
DTSTART:20251118T110000Z
DTEND:20251118T124000Z
SUMMARY:Физика
LOCATION:ГЗ 324
END:VEVENT
BEGIN:VEVENT
UID:8aht@192.168.245.71:3006
SEQUENCE:0
DTSTAMP:20260423T132233Z
DTSTART:20251119T150000Z
DTEND:20251119T164000Z
SUMMARY:Математический аппарат физики
LOCATION:ГЗ 305
END:VEVENT
BEGIN:VEVENT
UID:o66i@192.168.245.71:3006
SEQUENCE:0
DTSTAMP:20260423T132233Z
DTSTART:20251120T090000Z
DTEND:20251120T104000Z
SUMMARY:Физика
LOCATION:ГЗ 257
END:VEVENT
END:VCALENDAR