BEGIN:VCALENDAR
VERSION:2.0
PRODID:-//spbstu.ru//ical//RU
NAME:Расписание
X-WR-CALNAME:Расписание
TIMEZONE-ID:Europe/Moscow
X-WR-TIMEZONE:Europe/Moscow
BEGIN:VEVENT
UID:grov@192.168.245.71:3006
SEQUENCE:0
DTSTAMP:20260423T050151Z
DTSTART:20250929T090000Z
DTEND:20250929T104000Z
SUMMARY:Статистическая физика
LOCATION:2 к. 452
END:VEVENT
BEGIN:VEVENT
UID:qlq9@192.168.245.71:3006
SEQUENCE:0
DTSTAMP:20260423T050151Z
DTSTART:20250929T110000Z
DTEND:20250929T124000Z
SUMMARY:Статистическая физика
LOCATION:2 к. 452
END:VEVENT
BEGIN:VEVENT
UID:khhl@192.168.245.71:3006
SEQUENCE:0
DTSTAMP:20260423T050151Z
DTSTART:20250930T070000Z
DTEND:20250930T084000Z
SUMMARY:Статистическая физика
LOCATION:2 к. 459
END:VEVENT
BEGIN:VEVENT
UID:dtmo@192.168.245.71:3006
SEQUENCE:0
DTSTAMP:20260423T050151Z
DTSTART:20250930T090000Z
DTEND:20250930T104000Z
SUMMARY:Статистическая физика
LOCATION:2 к. 359
END:VEVENT
BEGIN:VEVENT
UID:hcsi@192.168.245.71:3006
SEQUENCE:0
DTSTAMP:20260423T050151Z
DTSTART:20251003T070000Z
DTEND:20251003T084000Z
SUMMARY:Статистическая физика
LOCATION:2 к. 431
END:VEVENT
BEGIN:VEVENT
UID:9n5e@192.168.245.71:3006
SEQUENCE:0
DTSTAMP:20260423T050151Z
DTSTART:20251003T110000Z
DTEND:20251003T124000Z
SUMMARY:Статистическая физика
LOCATION:2 к. 470
END:VEVENT
BEGIN:VEVENT
UID:lwe1@192.168.245.71:3006
SEQUENCE:0
DTSTAMP:20260423T050151Z
DTSTART:20251003T130000Z
DTEND:20251003T144000Z
SUMMARY:Статистическая физика
LOCATION:2 к. 224
END:VEVENT
END:VCALENDAR