BEGIN:VCALENDAR
VERSION:2.0
PRODID:-//spbstu.ru//ical//RU
NAME:Расписание
X-WR-CALNAME:Расписание
TIMEZONE-ID:Europe/Moscow
X-WR-TIMEZONE:Europe/Moscow
BEGIN:VEVENT
UID:a414@192.168.245.71:3006
SEQUENCE:0
DTSTAMP:20260425T031712Z
DTSTART:20251126T090000Z
DTEND:20251126T104000Z
SUMMARY:История России и стран Евразийского региона
LOCATION:16 к. 114
END:VEVENT
BEGIN:VEVENT
UID:pqcs@192.168.245.71:3006
SEQUENCE:0
DTSTAMP:20260425T031712Z
DTSTART:20251126T110000Z
DTEND:20251126T124000Z
SUMMARY:История России и стран Евразийского региона
LOCATION:16 к. 114
END:VEVENT
BEGIN:VEVENT
UID:0v5w@192.168.245.71:3006
SEQUENCE:0
DTSTAMP:20260425T031712Z
DTSTART:20251127T070000Z
DTEND:20251127T084000Z
SUMMARY:История России и стран Евразийского региона
LOCATION:16 к. 121
END:VEVENT
BEGIN:VEVENT
UID:chjr@192.168.245.71:3006
SEQUENCE:0
DTSTAMP:20260425T031712Z
DTSTART:20251127T090000Z
DTEND:20251127T104000Z
SUMMARY:История России и стран Евразийского региона
LOCATION:16 к. 121
END:VEVENT
END:VCALENDAR