BEGIN:VCALENDAR
VERSION:2.0
PRODID:-//spbstu.ru//ical//RU
NAME:Расписание
X-WR-CALNAME:Расписание
TIMEZONE-ID:Europe/Moscow
X-WR-TIMEZONE:Europe/Moscow
BEGIN:VEVENT
UID:axhl@192.168.245.71:3006
SEQUENCE:0
DTSTAMP:20260423T084659Z
DTSTART:20251211T070000Z
DTEND:20251211T084000Z
SUMMARY:Системный анализ и принятие решений
LOCATION:3 к. 303
END:VEVENT
BEGIN:VEVENT
UID:z0ws@192.168.245.71:3006
SEQUENCE:0
DTSTAMP:20260423T084659Z
DTSTART:20251211T090000Z
DTEND:20251211T104000Z
SUMMARY:Системный анализ и принятие решений
LOCATION:3 к. 303
END:VEVENT
BEGIN:VEVENT
UID:67bk@192.168.245.71:3006
SEQUENCE:0
DTSTAMP:20260423T084659Z
DTSTART:20251213T070000Z
DTEND:20251213T084000Z
SUMMARY:Системный анализ и принятие решений
LOCATION:3 к. 303
END:VEVENT
END:VCALENDAR