BEGIN:VCALENDAR
VERSION:2.0
PRODID:-//spbstu.ru//ical//RU
NAME:Расписание
X-WR-CALNAME:Расписание
TIMEZONE-ID:Europe/Moscow
X-WR-TIMEZONE:Europe/Moscow
BEGIN:VEVENT
UID:a1es@192.168.245.71:3006
SEQUENCE:0
DTSTAMP:20260422T104447Z
DTSTART:20260210T070000Z
DTEND:20260210T084000Z
SUMMARY:Дискретная математика
LOCATION:3 к. 211
END:VEVENT
BEGIN:VEVENT
UID:pgqh@192.168.245.71:3006
SEQUENCE:0
DTSTAMP:20260422T104447Z
DTSTART:20260210T090000Z
DTEND:20260210T104000Z
SUMMARY:Системный анализ и принятие решений
LOCATION:3 к. 402
END:VEVENT
BEGIN:VEVENT
UID:ijjh@192.168.245.71:3006
SEQUENCE:0
DTSTAMP:20260422T104447Z
DTSTART:20260212T070000Z
DTEND:20260212T084000Z
SUMMARY:Дискретная математика
LOCATION:3 к. 211
END:VEVENT
BEGIN:VEVENT
UID:6b1n@192.168.245.71:3006
SEQUENCE:0
DTSTAMP:20260422T104447Z
DTSTART:20260212T090000Z
DTEND:20260212T104000Z
SUMMARY:Дискретная математика
LOCATION:3 к. 211
END:VEVENT
BEGIN:VEVENT
UID:bj2f@192.168.245.71:3006
SEQUENCE:0
DTSTAMP:20260422T104447Z
DTSTART:20260214T070000Z
DTEND:20260214T084000Z
SUMMARY:Системный анализ и принятие решений
LOCATION:3 к. 401
END:VEVENT
BEGIN:VEVENT
UID:a6d5@192.168.245.71:3006
SEQUENCE:0
DTSTAMP:20260422T104447Z
DTSTART:20260214T090000Z
DTEND:20260214T104000Z
SUMMARY:Дискретная математика
LOCATION:3 к. 401
END:VEVENT
BEGIN:VEVENT
UID:kvoi@192.168.245.71:3006
SEQUENCE:0
DTSTAMP:20260422T104447Z
DTSTART:20260214T110000Z
DTEND:20260214T124000Z
SUMMARY:Системный анализ и принятие решений
LOCATION:3 к. 401
END:VEVENT
END:VCALENDAR