BEGIN:VCALENDAR
VERSION:2.0
PRODID:-//spbstu.ru//ical//RU
NAME:Расписание
X-WR-CALNAME:Расписание
TIMEZONE-ID:Europe/Moscow
X-WR-TIMEZONE:Europe/Moscow
BEGIN:VEVENT
UID:oi9e@192.168.245.71:3006
SEQUENCE:0
DTSTAMP:20260421T150100Z
DTSTART:20260317T070000Z
DTEND:20260317T084000Z
SUMMARY:Дискретная математика
LOCATION:3 к. 211
END:VEVENT
BEGIN:VEVENT
UID:m5u8@192.168.245.71:3006
SEQUENCE:0
DTSTAMP:20260421T150100Z
DTSTART:20260317T090000Z
DTEND:20260317T104000Z
SUMMARY:Системный анализ и принятие решений
LOCATION:3 к. 402
END:VEVENT
BEGIN:VEVENT
UID:c68n@192.168.245.71:3006
SEQUENCE:0
DTSTAMP:20260421T150100Z
DTSTART:20260319T070000Z
DTEND:20260319T084000Z
SUMMARY:Дискретная математика
LOCATION:3 к. 211
END:VEVENT
BEGIN:VEVENT
UID:wp2b@192.168.245.71:3006
SEQUENCE:0
DTSTAMP:20260421T150100Z
DTSTART:20260319T090000Z
DTEND:20260319T104000Z
SUMMARY:Дискретная математика
LOCATION:3 к. 211
END:VEVENT
BEGIN:VEVENT
UID:yvk7@192.168.245.71:3006
SEQUENCE:0
DTSTAMP:20260421T150100Z
DTSTART:20260321T070000Z
DTEND:20260321T084000Z
SUMMARY:Системный анализ и принятие решений
LOCATION:3 к. 401
END:VEVENT
BEGIN:VEVENT
UID:23qq@192.168.245.71:3006
SEQUENCE:0
DTSTAMP:20260421T150100Z
DTSTART:20260321T090000Z
DTEND:20260321T104000Z
SUMMARY:Дискретная математика
LOCATION:3 к. 401
END:VEVENT
BEGIN:VEVENT
UID:5ygw@192.168.245.71:3006
SEQUENCE:0
DTSTAMP:20260421T150100Z
DTSTART:20260321T110000Z
DTEND:20260321T124000Z
SUMMARY:Системный анализ и принятие решений
LOCATION:3 к. 401
END:VEVENT
END:VCALENDAR