BEGIN:VCALENDAR
VERSION:2.0
PRODID:-//spbstu.ru//ical//RU
NAME:Расписание
X-WR-CALNAME:Расписание
TIMEZONE-ID:Europe/Moscow
X-WR-TIMEZONE:Europe/Moscow
BEGIN:VEVENT
UID:38um@192.168.245.71:3006
SEQUENCE:0
DTSTAMP:20260423T183914Z
DTSTART:20251006T070000Z
DTEND:20251006T084000Z
SUMMARY:Комплексное проектирование гидротехнических и энергетических соору
 жений
LOCATION:ГК-2 305
END:VEVENT
BEGIN:VEVENT
UID:bytm@192.168.245.71:3006
SEQUENCE:0
DTSTAMP:20260423T183914Z
DTSTART:20251006T070000Z
DTEND:20251006T084000Z
SUMMARY:Информационное моделирование процесса строительства
LOCATION:ГК-2 305
END:VEVENT
BEGIN:VEVENT
UID:7as4@192.168.245.71:3006
SEQUENCE:0
DTSTAMP:20260423T183914Z
DTSTART:20251006T090000Z
DTEND:20251006T104000Z
SUMMARY:Информационное моделирование процесса строительства
LOCATION:ГК-2 305
END:VEVENT
BEGIN:VEVENT
UID:3qu6@192.168.245.71:3006
SEQUENCE:0
DTSTAMP:20260423T183914Z
DTSTART:20251006T090000Z
DTEND:20251006T104000Z
SUMMARY:Комплексное проектирование гидротехнических и энергетических соору
 жений
LOCATION:ГК-2 305
END:VEVENT
BEGIN:VEVENT
UID:2sj1@192.168.245.71:3006
SEQUENCE:0
DTSTAMP:20260423T183914Z
DTSTART:20251006T110000Z
DTEND:20251006T124000Z
SUMMARY:Основы цифровых технологий
LOCATION:ГК-2 305
END:VEVENT
BEGIN:VEVENT
UID:agow@192.168.245.71:3006
SEQUENCE:0
DTSTAMP:20260423T183914Z
DTSTART:20251007T070000Z
DTEND:20251007T085000Z
SUMMARY:Цифровая аналитика
LOCATION:ГК-2 305
END:VEVENT
BEGIN:VEVENT
UID:23na@192.168.245.71:3006
SEQUENCE:0
DTSTAMP:20260423T183914Z
DTSTART:20251007T090000Z
DTEND:20251007T105000Z
SUMMARY:Цифровая аналитика
LOCATION:ГК-2 305
END:VEVENT
BEGIN:VEVENT
UID:kyn9@192.168.245.71:3006
SEQUENCE:0
DTSTAMP:20260423T183914Z
DTSTART:20251007T130000Z
DTEND:20251007T144000Z
SUMMARY:Основы цифровых технологий
LOCATION:ГЗ 215
END:VEVENT
BEGIN:VEVENT
UID:xn3b@192.168.245.71:3006
SEQUENCE:0
DTSTAMP:20260423T183914Z
DTSTART:20251008T153000Z
DTEND:20251008T171000Z
SUMMARY:Основы цифровых технологий
LOCATION:ГК-2 305
END:VEVENT
END:VCALENDAR