BEGIN:VCALENDAR
VERSION:2.0
PRODID:-//spbstu.ru//ical//RU
NAME:Расписание
X-WR-CALNAME:Расписание
TIMEZONE-ID:Europe/Moscow
X-WR-TIMEZONE:Europe/Moscow
BEGIN:VEVENT
UID:vs6i@192.168.245.71:3006
SEQUENCE:0
DTSTAMP:20260421T173212Z
DTSTART:20260224T153000Z
DTEND:20260224T171000Z
SUMMARY:Информатика
LOCATION:ГК-2 305
END:VEVENT
BEGIN:VEVENT
UID:ewel@192.168.245.71:3006
SEQUENCE:0
DTSTAMP:20260421T173212Z
DTSTART:20260225T090000Z
DTEND:20260225T104000Z
SUMMARY:Информатика
LOCATION:ГК-2 305
END:VEVENT
BEGIN:VEVENT
UID:2bds@192.168.245.71:3006
SEQUENCE:0
DTSTAMP:20260421T173212Z
DTSTART:20260225T110000Z
DTEND:20260225T124000Z
SUMMARY:Информатика
LOCATION:ГК-2 305
END:VEVENT
BEGIN:VEVENT
UID:mx9j@192.168.245.71:3006
SEQUENCE:0
DTSTAMP:20260421T173212Z
DTSTART:20260226T070000Z
DTEND:20260226T084000Z
SUMMARY:Информатика
LOCATION:ГЗ 215
END:VEVENT
BEGIN:VEVENT
UID:m6i8@192.168.245.71:3006
SEQUENCE:0
DTSTAMP:20260421T173212Z
DTSTART:20260226T090000Z
DTEND:20260226T104000Z
SUMMARY:Информатика
LOCATION:ГК-2 305
END:VEVENT
END:VCALENDAR