BEGIN:VCALENDAR
VERSION:2.0
PRODID:-//spbstu.ru//ical//RU
NAME:Расписание
X-WR-CALNAME:Расписание
TIMEZONE-ID:Europe/Moscow
X-WR-TIMEZONE:Europe/Moscow
BEGIN:VEVENT
UID:o79e@192.168.245.71:3006
SEQUENCE:0
DTSTAMP:20260423T205429Z
DTSTART:20251028T090000Z
DTEND:20251028T104000Z
SUMMARY:Уравнения математической физики для ЯЭУ
LOCATION:ГЗ 229
END:VEVENT
BEGIN:VEVENT
UID:7bfq@192.168.245.71:3006
SEQUENCE:0
DTSTAMP:20260423T205429Z
DTSTART:20251028T110000Z
DTEND:20251028T124000Z
SUMMARY:Уравнения математической физики для ЯЭУ
LOCATION:ГЗ 229
END:VEVENT
BEGIN:VEVENT
UID:eee2@192.168.245.71:3006
SEQUENCE:0
DTSTAMP:20260423T205429Z
DTSTART:20251030T070000Z
DTEND:20251030T084000Z
SUMMARY:Уравнения математической физики для ЯЭУ
LOCATION:ГЗ 229
END:VEVENT
BEGIN:VEVENT
UID:v6r4@192.168.245.71:3006
SEQUENCE:0
DTSTAMP:20260423T205429Z
DTSTART:20251030T090000Z
DTEND:20251030T104000Z
SUMMARY:Уравнения математической физики для ЯЭУ
LOCATION:ГЗ 284
END:VEVENT
BEGIN:VEVENT
UID:c34f@192.168.245.71:3006
SEQUENCE:0
DTSTAMP:20260423T205429Z
DTSTART:20251030T110000Z
DTEND:20251030T124000Z
SUMMARY:Методы расчета и конструирования ядерных реакторов
LOCATION:ГЗ 225
END:VEVENT
BEGIN:VEVENT
UID:7asp@192.168.245.71:3006
SEQUENCE:0
DTSTAMP:20260423T205429Z
DTSTART:20251031T070000Z
DTEND:20251031T084000Z
SUMMARY:Теплогидравлические процессы в ЯЭУ
LOCATION:ТВН ВШАиТЭ уч.ауд.№303
END:VEVENT
BEGIN:VEVENT
UID:dtec@192.168.245.71:3006
SEQUENCE:0
DTSTAMP:20260423T205429Z
DTSTART:20251031T110000Z
DTEND:20251031T124000Z
SUMMARY:Теплогидравлические процессы в ЯЭУ
LOCATION:ТВН ВШАиТЭ уч.ауд.№302а
END:VEVENT
END:VCALENDAR