BEGIN:VCALENDAR
VERSION:2.0
PRODID:-//spbstu.ru//ical//RU
NAME:Расписание
X-WR-CALNAME:Расписание
TIMEZONE-ID:Europe/Moscow
X-WR-TIMEZONE:Europe/Moscow
BEGIN:VEVENT
UID:55jz@192.168.245.71:3006
SEQUENCE:0
DTSTAMP:20260421T085553Z
DTSTART:20260303T090000Z
DTEND:20260303T104000Z
SUMMARY:Теплогидравлические процессы в ЯЭУ
LOCATION:ГЗ 227
END:VEVENT
BEGIN:VEVENT
UID:80b8@192.168.245.71:3006
SEQUENCE:0
DTSTAMP:20260421T085553Z
DTSTART:20260303T110000Z
DTEND:20260303T124000Z
SUMMARY:Теплогидравлические процессы в ЯЭУ
LOCATION:ГЗ 227
END:VEVENT
BEGIN:VEVENT
UID:0gou@192.168.245.71:3006
SEQUENCE:0
DTSTAMP:20260421T085553Z
DTSTART:20260304T070000Z
DTEND:20260304T084000Z
SUMMARY:Методы расчета и конструирования парогенераторов
LOCATION:ГЗ 227
END:VEVENT
BEGIN:VEVENT
UID:3z9t@192.168.245.71:3006
SEQUENCE:0
DTSTAMP:20260421T085553Z
DTSTART:20260304T090000Z
DTEND:20260304T104000Z
SUMMARY:Методы расчета и конструирования парогенераторов
LOCATION:ГЗ 227
END:VEVENT
BEGIN:VEVENT
UID:sxfp@192.168.245.71:3006
SEQUENCE:0
DTSTAMP:20260421T085553Z
DTSTART:20260305T070000Z
DTEND:20260305T084000Z
SUMMARY:Теплогидравлические процессы в ЯЭУ
LOCATION:ГЗ 282
END:VEVENT
BEGIN:VEVENT
UID:qbuq@192.168.245.71:3006
SEQUENCE:0
DTSTAMP:20260421T085553Z
DTSTART:20260305T090000Z
DTEND:20260305T104000Z
SUMMARY:Методы расчета и конструирования парогенераторов
LOCATION:ГЗ 282
END:VEVENT
BEGIN:VEVENT
UID:91ou@192.168.245.71:3006
SEQUENCE:0
DTSTAMP:20260421T085553Z
DTSTART:20260305T090000Z
DTEND:20260305T104000Z
SUMMARY:Методы расчета и конструирования парогенераторов
LOCATION:ГЗ 282
END:VEVENT
END:VCALENDAR