BEGIN:VCALENDAR
VERSION:2.0
PRODID:-//spbstu.ru//ical//RU
NAME:Расписание
X-WR-CALNAME:Расписание
TIMEZONE-ID:Europe/Moscow
X-WR-TIMEZONE:Europe/Moscow
BEGIN:VEVENT
UID:ojla@192.168.245.71:3006
SEQUENCE:0
DTSTAMP:20260424T123452Z
DTSTART:20251027T070000Z
DTEND:20251027T084000Z
SUMMARY:Теория вероятностей и математическая статистика
LOCATION:11 к. 148
END:VEVENT
BEGIN:VEVENT
UID:ch20@192.168.245.71:3006
SEQUENCE:0
DTSTAMP:20260424T123452Z
DTSTART:20251027T090000Z
DTEND:20251027T104000Z
SUMMARY:Методы математической статистики в машинном обучении
LOCATION:11 к. 322
END:VEVENT
BEGIN:VEVENT
UID:fyjp@192.168.245.71:3006
SEQUENCE:0
DTSTAMP:20260424T123452Z
DTSTART:20251029T050000Z
DTEND:20251029T064000Z
SUMMARY:Теория вероятностей и математическая статистика
LOCATION:11 к. 322
END:VEVENT
BEGIN:VEVENT
UID:rkql@192.168.245.71:3006
SEQUENCE:0
DTSTAMP:20260424T123452Z
DTSTART:20251029T070000Z
DTEND:20251029T084000Z
SUMMARY:Теория вероятностей и математическая статистика
LOCATION:11 к. 322
END:VEVENT
BEGIN:VEVENT
UID:2wz9@192.168.245.71:3006
SEQUENCE:0
DTSTAMP:20260424T123452Z
DTSTART:20251029T090000Z
DTEND:20251029T104000Z
SUMMARY:Теория вероятностей и математическая статистика
LOCATION:11 к. 322
END:VEVENT
BEGIN:VEVENT
UID:7kxt@192.168.245.71:3006
SEQUENCE:0
DTSTAMP:20260424T123452Z
DTSTART:20251030T070000Z
DTEND:20251030T084000Z
SUMMARY:Теория вероятностей и математическая статистика
LOCATION:11 к. 322
END:VEVENT
BEGIN:VEVENT
UID:2jgn@192.168.245.71:3006
SEQUENCE:0
DTSTAMP:20260424T123452Z
DTSTART:20251101T110000Z
DTEND:20251101T124000Z
SUMMARY:Теория вероятностей и математическая статистика
LOCATION:DL Дистанционно
END:VEVENT
END:VCALENDAR