BEGIN:VCALENDAR
VERSION:2.0
PRODID:-//spbstu.ru//ical//RU
NAME:Расписание
X-WR-CALNAME:Расписание
TIMEZONE-ID:Europe/Moscow
X-WR-TIMEZONE:Europe/Moscow
BEGIN:VEVENT
UID:5fe7@192.168.245.71:3006
SEQUENCE:0
DTSTAMP:20260423T170816Z
DTSTART:20251124T070000Z
DTEND:20251124T084000Z
SUMMARY:Теория вероятностей и математическая статистика
LOCATION:11 к. 148
END:VEVENT
BEGIN:VEVENT
UID:1fqh@192.168.245.71:3006
SEQUENCE:0
DTSTAMP:20260423T170816Z
DTSTART:20251124T090000Z
DTEND:20251124T104000Z
SUMMARY:Методы математической статистики в машинном обучении
LOCATION:11 к. 322
END:VEVENT
BEGIN:VEVENT
UID:g11d@192.168.245.71:3006
SEQUENCE:0
DTSTAMP:20260423T170816Z
DTSTART:20251126T050000Z
DTEND:20251126T064000Z
SUMMARY:Теория вероятностей и математическая статистика
LOCATION:11 к. 322
END:VEVENT
BEGIN:VEVENT
UID:t8rs@192.168.245.71:3006
SEQUENCE:0
DTSTAMP:20260423T170816Z
DTSTART:20251126T070000Z
DTEND:20251126T084000Z
SUMMARY:Теория вероятностей и математическая статистика
LOCATION:11 к. 322
END:VEVENT
BEGIN:VEVENT
UID:l9lu@192.168.245.71:3006
SEQUENCE:0
DTSTAMP:20260423T170816Z
DTSTART:20251126T090000Z
DTEND:20251126T104000Z
SUMMARY:Теория вероятностей и математическая статистика
LOCATION:11 к. 322
END:VEVENT
BEGIN:VEVENT
UID:w3yb@192.168.245.71:3006
SEQUENCE:0
DTSTAMP:20260423T170816Z
DTSTART:20251127T070000Z
DTEND:20251127T084000Z
SUMMARY:Теория вероятностей и математическая статистика
LOCATION:11 к. 322
END:VEVENT
END:VCALENDAR