BEGIN:VCALENDAR
VERSION:2.0
PRODID:-//spbstu.ru//ical//RU
NAME:Расписание
X-WR-CALNAME:Расписание
TIMEZONE-ID:Europe/Moscow
X-WR-TIMEZONE:Europe/Moscow
BEGIN:VEVENT
UID:p1m7@192.168.245.71:3006
SEQUENCE:0
DTSTAMP:20260421T184118Z
DTSTART:20260316T070000Z
DTEND:20260316T084000Z
SUMMARY:Теория вероятностей и математическая статистика
LOCATION:3 к. 205
END:VEVENT
BEGIN:VEVENT
UID:6gkt@192.168.245.71:3006
SEQUENCE:0
DTSTAMP:20260421T184118Z
DTSTART:20260316T090000Z
DTEND:20260316T104000Z
SUMMARY:Теория вероятностей и математическая статистика
LOCATION:11 к. 148
END:VEVENT
BEGIN:VEVENT
UID:5ukl@192.168.245.71:3006
SEQUENCE:0
DTSTAMP:20260421T184118Z
DTSTART:20260316T110000Z
DTEND:20260316T124000Z
SUMMARY:Исследовательская работа
LOCATION:Не опр. База практик
END:VEVENT
BEGIN:VEVENT
UID:ysh8@192.168.245.71:3006
SEQUENCE:0
DTSTAMP:20260421T184118Z
DTSTART:20260317T110000Z
DTEND:20260317T124000Z
SUMMARY:Исследовательская работа
LOCATION:Не опр. База практик
END:VEVENT
BEGIN:VEVENT
UID:cqrx@192.168.245.71:3006
SEQUENCE:0
DTSTAMP:20260421T184118Z
DTSTART:20260318T050000Z
DTEND:20260318T064000Z
SUMMARY:Теория вероятностей и математическая статистика
LOCATION:11 к. 322
END:VEVENT
BEGIN:VEVENT
UID:pceh@192.168.245.71:3006
SEQUENCE:0
DTSTAMP:20260421T184118Z
DTSTART:20260318T070000Z
DTEND:20260318T084000Z
SUMMARY:Теория вероятностей и математическая статистика
LOCATION:11 к. 322
END:VEVENT
BEGIN:VEVENT
UID:h1sj@192.168.245.71:3006
SEQUENCE:0
DTSTAMP:20260421T184118Z
DTSTART:20260318T090000Z
DTEND:20260318T104000Z
SUMMARY:Теория вероятностей и математическая статистика
LOCATION:11 к. 322
END:VEVENT
BEGIN:VEVENT
UID:bx0w@192.168.245.71:3006
SEQUENCE:0
DTSTAMP:20260421T184118Z
DTSTART:20260318T110000Z
DTEND:20260318T124000Z
SUMMARY:Исследовательская работа
LOCATION:Не опр. База практик
END:VEVENT
BEGIN:VEVENT
UID:xpzf@192.168.245.71:3006
SEQUENCE:0
DTSTAMP:20260421T184118Z
DTSTART:20260319T110000Z
DTEND:20260319T124000Z
SUMMARY:Исследовательская работа
LOCATION:Не опр. База практик
END:VEVENT
BEGIN:VEVENT
UID:j43v@192.168.245.71:3006
SEQUENCE:0
DTSTAMP:20260421T184118Z
DTSTART:20260320T110000Z
DTEND:20260320T124000Z
SUMMARY:Исследовательская работа
LOCATION:Не опр. База практик
END:VEVENT
END:VCALENDAR