BEGIN:VCALENDAR
VERSION:2.0
PRODID:-//spbstu.ru//ical//RU
NAME:Расписание
X-WR-CALNAME:Расписание
TIMEZONE-ID:Europe/Moscow
X-WR-TIMEZONE:Europe/Moscow
BEGIN:VEVENT
UID:be51@192.168.245.71:3006
SEQUENCE:0
DTSTAMP:20260421T150108Z
DTSTART:20260511T070000Z
DTEND:20260511T084000Z
SUMMARY:Теория вероятностей и математическая статистика
LOCATION:3 к. 205
END:VEVENT
BEGIN:VEVENT
UID:ot3p@192.168.245.71:3006
SEQUENCE:0
DTSTAMP:20260421T150108Z
DTSTART:20260511T090000Z
DTEND:20260511T104000Z
SUMMARY:Теория вероятностей и математическая статистика
LOCATION:11 к. 148
END:VEVENT
BEGIN:VEVENT
UID:bx1u@192.168.245.71:3006
SEQUENCE:0
DTSTAMP:20260421T150108Z
DTSTART:20260513T050000Z
DTEND:20260513T064000Z
SUMMARY:Теория вероятностей и математическая статистика
LOCATION:11 к. 322
END:VEVENT
BEGIN:VEVENT
UID:jykn@192.168.245.71:3006
SEQUENCE:0
DTSTAMP:20260421T150108Z
DTSTART:20260513T070000Z
DTEND:20260513T084000Z
SUMMARY:Теория вероятностей и математическая статистика
LOCATION:11 к. 322
END:VEVENT
BEGIN:VEVENT
UID:fot3@192.168.245.71:3006
SEQUENCE:0
DTSTAMP:20260421T150108Z
DTSTART:20260513T090000Z
DTEND:20260513T104000Z
SUMMARY:Теория вероятностей и математическая статистика
LOCATION:11 к. 322
END:VEVENT
END:VCALENDAR