BEGIN:VCALENDAR
VERSION:2.0
PRODID:-//spbstu.ru//ical//RU
NAME:Расписание
X-WR-CALNAME:Расписание
TIMEZONE-ID:Europe/Moscow
X-WR-TIMEZONE:Europe/Moscow
BEGIN:VEVENT
UID:az4y@192.168.245.71:3006
SEQUENCE:0
DTSTAMP:20260424T083838Z
DTSTART:20251201T050000Z
DTEND:20251201T064000Z
SUMMARY:Иностранный язык: Базовый курс
LOCATION:ГЗ 281
END:VEVENT
BEGIN:VEVENT
UID:g5ha@192.168.245.71:3006
SEQUENCE:0
DTSTAMP:20260424T083838Z
DTSTART:20251201T090000Z
DTEND:20251201T104000Z
SUMMARY:Иностранный язык: Базовый курс
LOCATION:1 к. 417
END:VEVENT
BEGIN:VEVENT
UID:mdkg@192.168.245.71:3006
SEQUENCE:0
DTSTAMP:20260424T083838Z
DTSTART:20251201T110000Z
DTEND:20251201T124000Z
SUMMARY:Иностранный язык: Базовый курс
LOCATION:9 к. 319
END:VEVENT
BEGIN:VEVENT
UID:0j3g@192.168.245.71:3006
SEQUENCE:0
DTSTAMP:20260424T083838Z
DTSTART:20251202T090000Z
DTEND:20251202T104000Z
SUMMARY:Иностранный язык: Базовый курс
LOCATION:11 к. 316
END:VEVENT
BEGIN:VEVENT
UID:8kw0@192.168.245.71:3006
SEQUENCE:0
DTSTAMP:20260424T083838Z
DTSTART:20251202T110000Z
DTEND:20251202T124000Z
SUMMARY:Иностранный язык: Базовый курс
LOCATION:11 к. 330
END:VEVENT
BEGIN:VEVENT
UID:yc7f@192.168.245.71:3006
SEQUENCE:0
DTSTAMP:20260424T083838Z
DTSTART:20251202T130000Z
DTEND:20251202T144000Z
SUMMARY:Иностранный язык: Базовый курс
LOCATION:11 к. 322
END:VEVENT
BEGIN:VEVENT
UID:wifz@192.168.245.71:3006
SEQUENCE:0
DTSTAMP:20260424T083838Z
DTSTART:20251202T171500Z
DTEND:20251202T184500Z
SUMMARY:Письменная деловая коммуникация (на иностранном языке)
LOCATION:9 к. 225
END:VEVENT
BEGIN:VEVENT
UID:qfw5@192.168.245.71:3006
SEQUENCE:0
DTSTAMP:20260424T083838Z
DTSTART:20251203T090000Z
DTEND:20251203T104000Z
SUMMARY:Иностранный язык: Базовый курс
LOCATION:9 к. 514
END:VEVENT
BEGIN:VEVENT
UID:frlc@192.168.245.71:3006
SEQUENCE:0
DTSTAMP:20260424T083838Z
DTSTART:20251203T130000Z
DTEND:20251203T144000Z
SUMMARY:Иностранный язык в профессиональной коммуникации\, Английский
LOCATION:11 к. 322
END:VEVENT
BEGIN:VEVENT
UID:q7qd@192.168.245.71:3006
SEQUENCE:0
DTSTAMP:20260424T083838Z
DTSTART:20251205T070000Z
DTEND:20251205T084000Z
SUMMARY:Иностранный язык: Базовый курс
LOCATION:1 к. 414
END:VEVENT
BEGIN:VEVENT
UID:5jkw@192.168.245.71:3006
SEQUENCE:0
DTSTAMP:20260424T083838Z
DTSTART:20251205T090000Z
DTEND:20251205T104000Z
SUMMARY:Иностранный язык: Базовый курс
LOCATION:ГЗ 182
END:VEVENT
BEGIN:VEVENT
UID:3czp@192.168.245.71:3006
SEQUENCE:0
DTSTAMP:20260424T083838Z
DTSTART:20251205T110000Z
DTEND:20251205T124000Z
SUMMARY:Иностранный язык: Базовый курс
LOCATION:ГЗ 279
END:VEVENT
BEGIN:VEVENT
UID:vxwq@192.168.245.71:3006
SEQUENCE:0
DTSTAMP:20260424T083838Z
DTSTART:20251205T130000Z
DTEND:20251205T144000Z
SUMMARY:Иностранный язык: Базовый курс
LOCATION:ГК 230
END:VEVENT
END:VCALENDAR