BEGIN:VCALENDAR
VERSION:2.0
PRODID:-//spbstu.ru//ical//RU
NAME:Расписание
X-WR-CALNAME:Расписание
TIMEZONE-ID:Europe/Moscow
X-WR-TIMEZONE:Europe/Moscow
BEGIN:VEVENT
UID:lu88@192.168.245.71:3006
SEQUENCE:0
DTSTAMP:20260421T084504Z
DTSTART:20260330T070000Z
DTEND:20260330T084000Z
SUMMARY:Иностранный язык. Профессионально-ориентированный курс
LOCATION:16 к. 203
END:VEVENT
BEGIN:VEVENT
UID:d1g3@192.168.245.71:3006
SEQUENCE:0
DTSTAMP:20260421T084504Z
DTSTART:20260330T090000Z
DTEND:20260330T104000Z
SUMMARY:Иностранный язык: Базовый курс
LOCATION:11 к. 324
END:VEVENT
BEGIN:VEVENT
UID:w14k@192.168.245.71:3006
SEQUENCE:0
DTSTAMP:20260421T084504Z
DTSTART:20260330T110000Z
DTEND:20260330T124000Z
SUMMARY:Иностранный язык: Базовый курс
LOCATION:11 к. 315
END:VEVENT
BEGIN:VEVENT
UID:ljv2@192.168.245.71:3006
SEQUENCE:0
DTSTAMP:20260421T084504Z
DTSTART:20260330T130000Z
DTEND:20260330T144000Z
SUMMARY:Иностранный язык: Базовый курс
LOCATION:11 к. 315
END:VEVENT
BEGIN:VEVENT
UID:ce6x@192.168.245.71:3006
SEQUENCE:0
DTSTAMP:20260421T084504Z
DTSTART:20260403T110000Z
DTEND:20260403T124000Z
SUMMARY:Иностранный язык: Базовый курс
LOCATION:ГЗ 245
END:VEVENT
BEGIN:VEVENT
UID:9pa7@192.168.245.71:3006
SEQUENCE:0
DTSTAMP:20260421T084504Z
DTSTART:20260403T130000Z
DTEND:20260403T144000Z
SUMMARY:Иностранный язык в профессиональной коммуникации\, Английский
LOCATION:9 к. 208
END:VEVENT
BEGIN:VEVENT
UID:ol0h@192.168.245.71:3006
SEQUENCE:0
DTSTAMP:20260421T084504Z
DTSTART:20260403T150000Z
DTEND:20260403T164000Z
SUMMARY:Иностранный язык в профессиональной коммуникации\, Английский
LOCATION:9 к. 208
END:VEVENT
BEGIN:VEVENT
UID:a1lg@192.168.245.71:3006
SEQUENCE:0
DTSTAMP:20260421T084504Z
DTSTART:20260404T090000Z
DTEND:20260404T104000Z
SUMMARY:Иностранный язык: Базовый курс
LOCATION:ГЗ 108
END:VEVENT
BEGIN:VEVENT
UID:hfz8@192.168.245.71:3006
SEQUENCE:0
DTSTAMP:20260421T084504Z
DTSTART:20260404T130000Z
DTEND:20260404T144000Z
SUMMARY:Иностранный язык: Базовый курс
LOCATION:ГЗ 209
END:VEVENT
END:VCALENDAR