BEGIN:VCALENDAR
VERSION:2.0
PRODID:-//spbstu.ru//ical//RU
NAME:Расписание
X-WR-CALNAME:Расписание
TIMEZONE-ID:Europe/Moscow
X-WR-TIMEZONE:Europe/Moscow
BEGIN:VEVENT
UID:3efr@192.168.245.71:3006
SEQUENCE:0
DTSTAMP:20260422T101206Z
DTSTART:20260310T070000Z
DTEND:20260310T084000Z
SUMMARY:Контроль и управление параметрами технологии и оборудования
LOCATION:ГЗ каф.ТКМ к.17
END:VEVENT
BEGIN:VEVENT
UID:8szw@192.168.245.71:3006
SEQUENCE:0
DTSTAMP:20260422T101206Z
DTSTART:20260310T090000Z
DTEND:20260310T104000Z
SUMMARY:Контроль и управление параметрами технологии и оборудования
LOCATION:ГЗ каф.ТКМ к.17
END:VEVENT
BEGIN:VEVENT
UID:akv5@192.168.245.71:3006
SEQUENCE:0
DTSTAMP:20260422T101206Z
DTSTART:20260310T110000Z
DTEND:20260310T124000Z
SUMMARY:Контроль и управление параметрами технологии и оборудования
LOCATION:ГЗ каф.ТКМ к.17
END:VEVENT
BEGIN:VEVENT
UID:xq2d@192.168.245.71:3006
SEQUENCE:0
DTSTAMP:20260422T101206Z
DTSTART:20260311T060000Z
DTEND:20260311T083000Z
SUMMARY:Технологические процессы объемной штамповки (на английском языке)
LOCATION:ГЗ каф.ТКМ к.17
END:VEVENT
BEGIN:VEVENT
UID:mw3n@192.168.245.71:3006
SEQUENCE:0
DTSTAMP:20260422T101206Z
DTSTART:20260312T060000Z
DTEND:20260312T065000Z
SUMMARY:Технологии ремонта и утилизации изделий машиностроения
LOCATION:ГЗ каф.ТКМ к.17
END:VEVENT
BEGIN:VEVENT
UID:or4k@192.168.245.71:3006
SEQUENCE:0
DTSTAMP:20260422T101206Z
DTSTART:20260312T070000Z
DTEND:20260312T084000Z
SUMMARY:Технологии ремонта и утилизации изделий машиностроения
LOCATION:ГЗ каф.ТКМ к.17
END:VEVENT
BEGIN:VEVENT
UID:jcwm@192.168.245.71:3006
SEQUENCE:0
DTSTAMP:20260422T101206Z
DTSTART:20260312T070000Z
DTEND:20260312T084000Z
SUMMARY:Технологии ремонта и утилизации изделий машиностроения
LOCATION:ГЗ каф.ТКМ к.17
END:VEVENT
BEGIN:VEVENT
UID:8151@192.168.245.71:3006
SEQUENCE:0
DTSTAMP:20260422T101206Z
DTSTART:20260312T090000Z
DTEND:20260312T104000Z
SUMMARY:Технологии и оборудование электроэрозионной обработки материалов
LOCATION:ГЗ каф.ТКМ к.17
END:VEVENT
BEGIN:VEVENT
UID:u07g@192.168.245.71:3006
SEQUENCE:0
DTSTAMP:20260422T101206Z
DTSTART:20260312T110000Z
DTEND:20260312T124000Z
SUMMARY:Технологии и оборудование электроэрозионной обработки материалов
LOCATION:ГЗ каф.ТКМ к.17
END:VEVENT
BEGIN:VEVENT
UID:99px@192.168.245.71:3006
SEQUENCE:0
DTSTAMP:20260422T101206Z
DTSTART:20260312T130000Z
DTEND:20260312T144000Z
SUMMARY:Технологии и оборудование электроэрозионной обработки материалов
LOCATION:ГЗ каф.ТКМ к.4
END:VEVENT
END:VCALENDAR