BEGIN:VCALENDAR
VERSION:2.0
PRODID:-//spbstu.ru//ical//RU
NAME:Расписание
X-WR-CALNAME:Расписание
TIMEZONE-ID:Europe/Moscow
X-WR-TIMEZONE:Europe/Moscow
BEGIN:VEVENT
UID:an4j@192.168.245.71:3006
SEQUENCE:0
DTSTAMP:20260421T123218Z
DTSTART:20260514T070000Z
DTEND:20260514T084000Z
SUMMARY:Технологии ремонта и утилизации изделий машиностроения
LOCATION:ГЗ каф.ТКМ к.17
END:VEVENT
BEGIN:VEVENT
UID:xdy0@192.168.245.71:3006
SEQUENCE:0
DTSTAMP:20260421T123218Z
DTSTART:20260514T070000Z
DTEND:20260514T084000Z
SUMMARY:Технологии ремонта и утилизации изделий машиностроения
LOCATION:ГЗ каф.ТКМ к.17
END:VEVENT
BEGIN:VEVENT
UID:pton@192.168.245.71:3006
SEQUENCE:0
DTSTAMP:20260421T123218Z
DTSTART:20260514T090000Z
DTEND:20260514T104000Z
SUMMARY:Технологии и оборудование электроэрозионной обработки материалов
LOCATION:ГЗ каф.ТКМ к.17
END:VEVENT
BEGIN:VEVENT
UID:bpwl@192.168.245.71:3006
SEQUENCE:0
DTSTAMP:20260421T123218Z
DTSTART:20260514T110000Z
DTEND:20260514T124000Z
SUMMARY:Технологии и оборудование электроэрозионной обработки материалов
LOCATION:ГЗ каф.ТКМ к.17
END:VEVENT
BEGIN:VEVENT
UID:mlzt@192.168.245.71:3006
SEQUENCE:0
DTSTAMP:20260421T123218Z
DTSTART:20260516T070000Z
DTEND:20260516T100000Z
SUMMARY:Контроль и управление параметрами технологии и оборудования
LOCATION:ГЗ каф.ТКМ к.17
END:VEVENT
BEGIN:VEVENT
UID:1dhg@192.168.245.71:3006
SEQUENCE:0
DTSTAMP:20260421T123218Z
DTSTART:20260516T100000Z
DTEND:20260516T110000Z
SUMMARY:Контроль и управление параметрами технологии и оборудования
LOCATION:ГЗ каф.ТКМ к.17
END:VEVENT
END:VCALENDAR