BEGIN:VCALENDAR
VERSION:2.0
PRODID:-//spbstu.ru//ical//RU
NAME:Расписание
X-WR-CALNAME:Расписание
TIMEZONE-ID:Europe/Moscow
X-WR-TIMEZONE:Europe/Moscow
BEGIN:VEVENT
UID:i9pc@192.168.245.71:3006
SEQUENCE:0
DTSTAMP:20260424T112331Z
DTSTART:20250929T110000Z
DTEND:20250929T124000Z
SUMMARY:Сети и системы передачи информации
LOCATION:ГЗ 175
END:VEVENT
BEGIN:VEVENT
UID:58pg@192.168.245.71:3006
SEQUENCE:0
DTSTAMP:20260424T112331Z
DTSTART:20250929T130000Z
DTEND:20250929T144000Z
SUMMARY:Сети и системы передачи информации
LOCATION:ГЗ 175
END:VEVENT
BEGIN:VEVENT
UID:oflt@192.168.245.71:3006
SEQUENCE:0
DTSTAMP:20260424T112331Z
DTSTART:20250929T150000Z
DTEND:20250929T164000Z
SUMMARY:Цифровые ресурсы в научном исследовании
LOCATION:ГЗ 153
END:VEVENT
BEGIN:VEVENT
UID:uhd2@192.168.245.71:3006
SEQUENCE:0
DTSTAMP:20260424T112331Z
DTSTART:20250930T110000Z
DTEND:20250930T124000Z
SUMMARY:Программно-аппаратные средства обеспечения информационной безопасн
 ости
LOCATION:11 к. 148
END:VEVENT
BEGIN:VEVENT
UID:ej3z@192.168.245.71:3006
SEQUENCE:0
DTSTAMP:20260424T112331Z
DTSTART:20251001T070000Z
DTEND:20251001T084000Z
SUMMARY:Теория обнаружения вторжений
LOCATION:ГЗ 165
END:VEVENT
BEGIN:VEVENT
UID:onal@192.168.245.71:3006
SEQUENCE:0
DTSTAMP:20260424T112331Z
DTSTART:20251001T090000Z
DTEND:20251001T104000Z
SUMMARY:Теория обнаружения вторжений
LOCATION:ГЗ 165
END:VEVENT
BEGIN:VEVENT
UID:dpz5@192.168.245.71:3006
SEQUENCE:0
DTSTAMP:20260424T112331Z
DTSTART:20251001T110000Z
DTEND:20251001T124000Z
SUMMARY:Теория обнаружения вторжений
LOCATION:ГЗ 165
END:VEVENT
END:VCALENDAR