BEGIN:VCALENDAR
VERSION:2.0
PRODID:-//spbstu.ru//ical//RU
NAME:Расписание
X-WR-CALNAME:Расписание
TIMEZONE-ID:Europe/Moscow
X-WR-TIMEZONE:Europe/Moscow
BEGIN:VEVENT
UID:4fk5@192.168.245.71:3006
SEQUENCE:0
DTSTAMP:20260421T072747Z
DTSTART:20260406T090000Z
DTEND:20260406T104000Z
SUMMARY:Программно-аппаратные средства обеспечения информационной безопасн
 ости
LOCATION:ГЗ 153
END:VEVENT
BEGIN:VEVENT
UID:tko6@192.168.245.71:3006
SEQUENCE:0
DTSTAMP:20260421T072747Z
DTSTART:20260406T110000Z
DTEND:20260406T124000Z
SUMMARY:Верификация безопасности информационных систем
LOCATION:3 к. 309
END:VEVENT
BEGIN:VEVENT
UID:cpck@192.168.245.71:3006
SEQUENCE:0
DTSTAMP:20260421T072747Z
DTSTART:20260407T090000Z
DTEND:20260407T104000Z
SUMMARY:Математическая логика и теория алгоритмов
LOCATION:3 к. 307
END:VEVENT
BEGIN:VEVENT
UID:l6f7@192.168.245.71:3006
SEQUENCE:0
DTSTAMP:20260421T072747Z
DTSTART:20260407T110000Z
DTEND:20260407T124000Z
SUMMARY:Математическая логика и теория алгоритмов
LOCATION:3 к. 307
END:VEVENT
BEGIN:VEVENT
UID:vfo7@192.168.245.71:3006
SEQUENCE:0
DTSTAMP:20260421T072747Z
DTSTART:20260407T150000Z
DTEND:20260407T164000Z
SUMMARY:Основы вирусологии
LOCATION:ГЗ 165
END:VEVENT
BEGIN:VEVENT
UID:4yll@192.168.245.71:3006
SEQUENCE:0
DTSTAMP:20260421T072747Z
DTSTART:20260407T170000Z
DTEND:20260407T184000Z
SUMMARY:Основы вирусологии
LOCATION:ГЗ 165
END:VEVENT
BEGIN:VEVENT
UID:auzg@192.168.245.71:3006
SEQUENCE:0
DTSTAMP:20260421T072747Z
DTSTART:20260408T090000Z
DTEND:20260408T104000Z
SUMMARY:Математическая логика и теория алгоритмов
LOCATION:ГЗ 215
END:VEVENT
BEGIN:VEVENT
UID:nxly@192.168.245.71:3006
SEQUENCE:0
DTSTAMP:20260421T072747Z
DTSTART:20260408T130000Z
DTEND:20260408T144000Z
SUMMARY:Математическая логика и теория алгоритмов
LOCATION:ГЗ 152
END:VEVENT
BEGIN:VEVENT
UID:5s28@192.168.245.71:3006
SEQUENCE:0
DTSTAMP:20260421T072747Z
DTSTART:20260409T070000Z
DTEND:20260409T084000Z
SUMMARY:Математическая логика и теория алгоритмов
LOCATION:ГЗ 165
END:VEVENT
BEGIN:VEVENT
UID:ovpf@192.168.245.71:3006
SEQUENCE:0
DTSTAMP:20260421T072747Z
DTSTART:20260409T090000Z
DTEND:20260409T104000Z
SUMMARY:Математическая логика и теория алгоритмов
LOCATION:ГЗ 165
END:VEVENT
BEGIN:VEVENT
UID:tabe@192.168.245.71:3006
SEQUENCE:0
DTSTAMP:20260421T072747Z
DTSTART:20260410T070000Z
DTEND:20260410T084000Z
SUMMARY:Математическая логика и теория алгоритмов
LOCATION:3 к. 305
END:VEVENT
BEGIN:VEVENT
UID:eo7c@192.168.245.71:3006
SEQUENCE:0
DTSTAMP:20260421T072747Z
DTSTART:20260410T090000Z
DTEND:20260410T104000Z
SUMMARY:Математическая логика и теория алгоритмов
LOCATION:3 к. 305
END:VEVENT
BEGIN:VEVENT
UID:m126@192.168.245.71:3006
SEQUENCE:0
DTSTAMP:20260421T072747Z
DTSTART:20260410T110000Z
DTEND:20260410T124000Z
SUMMARY:Математическая логика и теория алгоритмов
LOCATION:3 к. 305
END:VEVENT
BEGIN:VEVENT
UID:sbfm@192.168.245.71:3006
SEQUENCE:0
DTSTAMP:20260421T072747Z
DTSTART:20260410T130000Z
DTEND:20260410T144000Z
SUMMARY:Математическая логика и теория алгоритмов
LOCATION:3 к. 305
END:VEVENT
END:VCALENDAR