BEGIN:VCALENDAR
VERSION:2.0
PRODID:-//spbstu.ru//ical//RU
NAME:Расписание
X-WR-CALNAME:Расписание
TIMEZONE-ID:Europe/Moscow
X-WR-TIMEZONE:Europe/Moscow
BEGIN:VEVENT
UID:uikl@192.168.245.71:3006
SEQUENCE:0
DTSTAMP:20260421T092117Z
DTSTART:20260511T090000Z
DTEND:20260511T104000Z
SUMMARY:Программно-аппаратные средства обеспечения информационной безопасн
 ости
LOCATION:ГЗ 153
END:VEVENT
BEGIN:VEVENT
UID:d9nb@192.168.245.71:3006
SEQUENCE:0
DTSTAMP:20260421T092117Z
DTSTART:20260511T110000Z
DTEND:20260511T124000Z
SUMMARY:Верификация безопасности информационных систем
LOCATION:3 к. 309
END:VEVENT
BEGIN:VEVENT
UID:o2u6@192.168.245.71:3006
SEQUENCE:0
DTSTAMP:20260421T092117Z
DTSTART:20260512T090000Z
DTEND:20260512T104000Z
SUMMARY:Математическая логика и теория алгоритмов
LOCATION:3 к. 307
END:VEVENT
BEGIN:VEVENT
UID:2fhx@192.168.245.71:3006
SEQUENCE:0
DTSTAMP:20260421T092117Z
DTSTART:20260512T110000Z
DTEND:20260512T124000Z
SUMMARY:Математическая логика и теория алгоритмов
LOCATION:3 к. 307
END:VEVENT
BEGIN:VEVENT
UID:pbdv@192.168.245.71:3006
SEQUENCE:0
DTSTAMP:20260421T092117Z
DTSTART:20260512T150000Z
DTEND:20260512T164000Z
SUMMARY:Основы вирусологии
LOCATION:ГЗ 165
END:VEVENT
BEGIN:VEVENT
UID:w7s2@192.168.245.71:3006
SEQUENCE:0
DTSTAMP:20260421T092117Z
DTSTART:20260512T170000Z
DTEND:20260512T184000Z
SUMMARY:Основы вирусологии
LOCATION:ГЗ 165
END:VEVENT
BEGIN:VEVENT
UID:dmlt@192.168.245.71:3006
SEQUENCE:0
DTSTAMP:20260421T092117Z
DTSTART:20260513T090000Z
DTEND:20260513T104000Z
SUMMARY:Математическая логика и теория алгоритмов
LOCATION:ГЗ 215
END:VEVENT
BEGIN:VEVENT
UID:b7wi@192.168.245.71:3006
SEQUENCE:0
DTSTAMP:20260421T092117Z
DTSTART:20260513T130000Z
DTEND:20260513T144000Z
SUMMARY:Математическая логика и теория алгоритмов
LOCATION:ГЗ 152
END:VEVENT
BEGIN:VEVENT
UID:sxvq@192.168.245.71:3006
SEQUENCE:0
DTSTAMP:20260421T092117Z
DTSTART:20260514T070000Z
DTEND:20260514T084000Z
SUMMARY:Математическая логика и теория алгоритмов
LOCATION:ГЗ 165
END:VEVENT
BEGIN:VEVENT
UID:x6ci@192.168.245.71:3006
SEQUENCE:0
DTSTAMP:20260421T092117Z
DTSTART:20260514T090000Z
DTEND:20260514T104000Z
SUMMARY:Математическая логика и теория алгоритмов
LOCATION:ГЗ 165
END:VEVENT
BEGIN:VEVENT
UID:sgrq@192.168.245.71:3006
SEQUENCE:0
DTSTAMP:20260421T092117Z
DTSTART:20260515T070000Z
DTEND:20260515T084000Z
SUMMARY:Математическая логика и теория алгоритмов
LOCATION:3 к. 305
END:VEVENT
BEGIN:VEVENT
UID:wq1o@192.168.245.71:3006
SEQUENCE:0
DTSTAMP:20260421T092117Z
DTSTART:20260515T090000Z
DTEND:20260515T104000Z
SUMMARY:Математическая логика и теория алгоритмов
LOCATION:3 к. 305
END:VEVENT
BEGIN:VEVENT
UID:1aw8@192.168.245.71:3006
SEQUENCE:0
DTSTAMP:20260421T092117Z
DTSTART:20260515T110000Z
DTEND:20260515T124000Z
SUMMARY:Математическая логика и теория алгоритмов
LOCATION:3 к. 305
END:VEVENT
BEGIN:VEVENT
UID:cev7@192.168.245.71:3006
SEQUENCE:0
DTSTAMP:20260421T092117Z
DTSTART:20260515T130000Z
DTEND:20260515T144000Z
SUMMARY:Математическая логика и теория алгоритмов
LOCATION:3 к. 305
END:VEVENT
END:VCALENDAR