BEGIN:VCALENDAR
VERSION:2.0
PRODID:-//spbstu.ru//ical//RU
NAME:Расписание
X-WR-CALNAME:Расписание
TIMEZONE-ID:Europe/Moscow
X-WR-TIMEZONE:Europe/Moscow
BEGIN:VEVENT
UID:dy62@192.168.245.71:3006
SEQUENCE:0
DTSTAMP:20260423T220156Z
DTSTART:20251118T090000Z
DTEND:20251118T104000Z
SUMMARY:Интеграционные проекты в Азиатском регионе и международное сотрудн
 ичество в рамках их реализации
LOCATION:16 к. 114
END:VEVENT
BEGIN:VEVENT
UID:6oqk@192.168.245.71:3006
SEQUENCE:0
DTSTAMP:20260423T220156Z
DTSTART:20251118T110000Z
DTEND:20251118T124000Z
SUMMARY:Внешнеполитические процессы государств Восточной Азии в современно
 й системе международных отношений
LOCATION:16 к. 514
END:VEVENT
BEGIN:VEVENT
UID:8b49@192.168.245.71:3006
SEQUENCE:0
DTSTAMP:20260423T220156Z
DTSTART:20251118T130000Z
DTEND:20251118T144000Z
SUMMARY:Интеграционные проекты в Азиатском регионе и международное сотрудн
 ичество в рамках их реализации
LOCATION:16 к. 514
END:VEVENT
BEGIN:VEVENT
UID:9g9z@192.168.245.71:3006
SEQUENCE:0
DTSTAMP:20260423T220156Z
DTSTART:20251120T090000Z
DTEND:20251120T104000Z
SUMMARY:Внешнеполитические процессы государств Восточной Азии в современно
 й системе международных отношений
LOCATION:16 к. 514
END:VEVENT
BEGIN:VEVENT
UID:sb5j@192.168.245.71:3006
SEQUENCE:0
DTSTAMP:20260423T220156Z
DTSTART:20251120T110000Z
DTEND:20251120T124000Z
SUMMARY:Внешнеполитические процессы государств Восточной Азии в современно
 й системе международных отношений
LOCATION:16 к. 514
END:VEVENT
BEGIN:VEVENT
UID:jew5@192.168.245.71:3006
SEQUENCE:0
DTSTAMP:20260423T220156Z
DTSTART:20251120T130000Z
DTEND:20251120T144000Z
SUMMARY:Интеграционные проекты в Азиатском регионе и международное сотрудн
 ичество в рамках их реализации
LOCATION:16 к. 514
END:VEVENT
BEGIN:VEVENT
UID:4sev@192.168.245.71:3006
SEQUENCE:0
DTSTAMP:20260423T220156Z
DTSTART:20251122T110000Z
DTEND:20251122T124000Z
SUMMARY:Интеграционные проекты в Азиатском регионе и международное сотрудн
 ичество в рамках их реализации
LOCATION:16 к. 114
END:VEVENT
BEGIN:VEVENT
UID:xpz0@192.168.245.71:3006
SEQUENCE:0
DTSTAMP:20260423T220156Z
DTSTART:20251122T130000Z
DTEND:20251122T144000Z
SUMMARY:Интеграционные проекты в Азиатском регионе и международное сотрудн
 ичество в рамках их реализации
LOCATION:16 к. 114
END:VEVENT
END:VCALENDAR