BEGIN:VCALENDAR
VERSION:2.0
PRODID:-//spbstu.ru//ical//RU
NAME:Расписание
X-WR-CALNAME:Расписание
TIMEZONE-ID:Europe/Moscow
X-WR-TIMEZONE:Europe/Moscow
BEGIN:VEVENT
UID:uikj@192.168.245.71:3006
SEQUENCE:0
DTSTAMP:20260422T140809Z
DTSTART:20260210T090000Z
DTEND:20260210T104000Z
SUMMARY:Публичное право стран Ближнего Востока
LOCATION:16 к. 121
END:VEVENT
BEGIN:VEVENT
UID:b6wo@192.168.245.71:3006
SEQUENCE:0
DTSTAMP:20260422T140809Z
DTSTART:20260214T090000Z
DTEND:20260214T104000Z
SUMMARY:Политическая и экономическая география Китая и государств АТР
LOCATION:16 к. 121
END:VEVENT
BEGIN:VEVENT
UID:zrlw@192.168.245.71:3006
SEQUENCE:0
DTSTAMP:20260422T140809Z
DTSTART:20260214T110000Z
DTEND:20260214T124000Z
SUMMARY:Политическая и экономическая география Китая и государств АТР
LOCATION:16 к. 121
END:VEVENT
END:VCALENDAR