BEGIN:VCALENDAR
VERSION:2.0
PRODID:-//spbstu.ru//ical//RU
NAME:Расписание
X-WR-CALNAME:Расписание
TIMEZONE-ID:Europe/Moscow
X-WR-TIMEZONE:Europe/Moscow
BEGIN:VEVENT
UID:6e0s@192.168.245.71:3006
SEQUENCE:0
DTSTAMP:20260423T041622Z
DTSTART:20251225T110000Z
DTEND:20251225T140000Z
SUMMARY:Физические основы электроники
LOCATION:2 к. 445
END:VEVENT
END:VCALENDAR