BEGIN:VCALENDAR
VERSION:2.0
PRODID:-//spbstu.ru//ical//RU
NAME:Расписание
X-WR-CALNAME:Расписание
TIMEZONE-ID:Europe/Moscow
X-WR-TIMEZONE:Europe/Moscow
BEGIN:VEVENT
UID:kkrw@192.168.245.71:3006
SEQUENCE:0
DTSTAMP:20260422T000020Z
DTSTART:20260316T070000Z
DTEND:20260316T084000Z
SUMMARY:Социология массовых коммуникаций
LOCATION:16 к. 209
END:VEVENT
BEGIN:VEVENT
UID:jtgr@192.168.245.71:3006
SEQUENCE:0
DTSTAMP:20260422T000020Z
DTSTART:20260316T090000Z
DTEND:20260316T104000Z
SUMMARY:Социология массовых коммуникаций
LOCATION:16 к. 209
END:VEVENT
BEGIN:VEVENT
UID:kdy0@192.168.245.71:3006
SEQUENCE:0
DTSTAMP:20260422T000020Z
DTSTART:20260316T110000Z
DTEND:20260316T124000Z
SUMMARY:Социология массовых коммуникаций
LOCATION:16 к. 200
END:VEVENT
BEGIN:VEVENT
UID:f6ut@192.168.245.71:3006
SEQUENCE:0
DTSTAMP:20260422T000020Z
DTSTART:20260316T130000Z
DTEND:20260316T144000Z
SUMMARY:Социология массовых коммуникаций
LOCATION:16 к. 209
END:VEVENT
BEGIN:VEVENT
UID:h26c@192.168.245.71:3006
SEQUENCE:0
DTSTAMP:20260422T000020Z
DTSTART:20260320T110000Z
DTEND:20260320T124000Z
SUMMARY:Социология массовых коммуникаций
LOCATION:16 к. 521
END:VEVENT
BEGIN:VEVENT
UID:jsuj@192.168.245.71:3006
SEQUENCE:0
DTSTAMP:20260422T000020Z
DTSTART:20260320T130000Z
DTEND:20260320T144000Z
SUMMARY:Социология массовых коммуникаций
LOCATION:16 к. 521
END:VEVENT
END:VCALENDAR