BEGIN:VCALENDAR
VERSION:2.0
PRODID:-//spbstu.ru//ical//RU
NAME:Расписание
X-WR-CALNAME:Расписание
TIMEZONE-ID:Europe/Moscow
X-WR-TIMEZONE:Europe/Moscow
BEGIN:VEVENT
UID:0be8@192.168.245.71:3006
SEQUENCE:0
DTSTAMP:20260422T070924Z
DTSTART:20260302T070000Z
DTEND:20260302T084000Z
SUMMARY:Социология массовых коммуникаций
LOCATION:16 к. 209
END:VEVENT
BEGIN:VEVENT
UID:osyp@192.168.245.71:3006
SEQUENCE:0
DTSTAMP:20260422T070924Z
DTSTART:20260302T090000Z
DTEND:20260302T104000Z
SUMMARY:Социология массовых коммуникаций
LOCATION:16 к. 209
END:VEVENT
BEGIN:VEVENT
UID:akdr@192.168.245.71:3006
SEQUENCE:0
DTSTAMP:20260422T070924Z
DTSTART:20260302T110000Z
DTEND:20260302T124000Z
SUMMARY:Социология массовых коммуникаций
LOCATION:16 к. 200
END:VEVENT
BEGIN:VEVENT
UID:da44@192.168.245.71:3006
SEQUENCE:0
DTSTAMP:20260422T070924Z
DTSTART:20260302T130000Z
DTEND:20260302T144000Z
SUMMARY:Социология массовых коммуникаций
LOCATION:16 к. 209
END:VEVENT
BEGIN:VEVENT
UID:7f4w@192.168.245.71:3006
SEQUENCE:0
DTSTAMP:20260422T070924Z
DTSTART:20260306T110000Z
DTEND:20260306T124000Z
SUMMARY:Социология массовых коммуникаций
LOCATION:16 к. 521
END:VEVENT
BEGIN:VEVENT
UID:gea7@192.168.245.71:3006
SEQUENCE:0
DTSTAMP:20260422T070924Z
DTSTART:20260306T130000Z
DTEND:20260306T144000Z
SUMMARY:Социология массовых коммуникаций
LOCATION:16 к. 521
END:VEVENT
BEGIN:VEVENT
UID:o55k@192.168.245.71:3006
SEQUENCE:0
DTSTAMP:20260422T070924Z
DTSTART:20260306T150000Z
DTEND:20260306T154000Z
SUMMARY:Управление изменениями
LOCATION:DL Дистанционно
END:VEVENT
END:VCALENDAR