BEGIN:VCALENDAR
VERSION:2.0
PRODID:-//spbstu.ru//ical//RU
NAME:Расписание
X-WR-CALNAME:Расписание
TIMEZONE-ID:Europe/Moscow
X-WR-TIMEZONE:Europe/Moscow
BEGIN:VEVENT
UID:cmuy@192.168.245.71:3006
SEQUENCE:0
DTSTAMP:20260421T150437Z
DTSTART:20260504T070000Z
DTEND:20260504T084000Z
SUMMARY:Социология массовых коммуникаций
LOCATION:16 к. 209
END:VEVENT
BEGIN:VEVENT
UID:95t6@192.168.245.71:3006
SEQUENCE:0
DTSTAMP:20260421T150437Z
DTSTART:20260504T090000Z
DTEND:20260504T104000Z
SUMMARY:Социология массовых коммуникаций
LOCATION:16 к. 209
END:VEVENT
BEGIN:VEVENT
UID:1k1n@192.168.245.71:3006
SEQUENCE:0
DTSTAMP:20260421T150437Z
DTSTART:20260504T130000Z
DTEND:20260504T144000Z
SUMMARY:Социология массовых коммуникаций
LOCATION:16 к. 209
END:VEVENT
BEGIN:VEVENT
UID:9a1t@192.168.245.71:3006
SEQUENCE:0
DTSTAMP:20260421T150437Z
DTSTART:20260508T110000Z
DTEND:20260508T124000Z
SUMMARY:Социология массовых коммуникаций
LOCATION:16 к. 521
END:VEVENT
BEGIN:VEVENT
UID:wkbw@192.168.245.71:3006
SEQUENCE:0
DTSTAMP:20260421T150437Z
DTSTART:20260508T130000Z
DTEND:20260508T144000Z
SUMMARY:Социология массовых коммуникаций
LOCATION:16 к. 521
END:VEVENT
END:VCALENDAR