BEGIN:VCALENDAR
VERSION:2.0
PRODID:-//spbstu.ru//ical//RU
NAME:Расписание
X-WR-CALNAME:Расписание
TIMEZONE-ID:Europe/Moscow
X-WR-TIMEZONE:Europe/Moscow
BEGIN:VEVENT
UID:imjd@192.168.245.71:3006
SEQUENCE:0
DTSTAMP:20260425T203206Z
DTSTART:20251006T050000Z
DTEND:20251006T064000Z
SUMMARY:Иностранный язык. Профессионально-ориентированный курс
LOCATION:ГК-2 401
END:VEVENT
BEGIN:VEVENT
UID:cojq@192.168.245.71:3006
SEQUENCE:0
DTSTAMP:20260425T203206Z
DTSTART:20251006T070000Z
DTEND:20251006T084000Z
SUMMARY:Иностранный язык: Базовый курс
LOCATION:11 к. 322
END:VEVENT
BEGIN:VEVENT
UID:2kyp@192.168.245.71:3006
SEQUENCE:0
DTSTAMP:20260425T203206Z
DTSTART:20251006T090000Z
DTEND:20251006T104000Z
SUMMARY:Иностранный язык: Базовый курс
LOCATION:ГК-2 110
END:VEVENT
BEGIN:VEVENT
UID:kj5l@192.168.245.71:3006
SEQUENCE:0
DTSTAMP:20260425T203206Z
DTSTART:20251006T110000Z
DTEND:20251006T124000Z
SUMMARY:Иностранный язык: Базовый курс
LOCATION:11 к. 326
END:VEVENT
BEGIN:VEVENT
UID:maeg@192.168.245.71:3006
SEQUENCE:0
DTSTAMP:20260425T203206Z
DTSTART:20251007T090000Z
DTEND:20251007T104000Z
SUMMARY:Иностранный язык: Базовый курс
LOCATION:11 к. 324
END:VEVENT
BEGIN:VEVENT
UID:fq4r@192.168.245.71:3006
SEQUENCE:0
DTSTAMP:20260425T203206Z
DTSTART:20251007T110000Z
DTEND:20251007T124000Z
SUMMARY:Иностранный язык: Базовый курс
LOCATION:ГК-2 401а
END:VEVENT
BEGIN:VEVENT
UID:cb2o@192.168.245.71:3006
SEQUENCE:0
DTSTAMP:20260425T203206Z
DTSTART:20251007T130000Z
DTEND:20251007T144000Z
SUMMARY:Иностранный язык. Профессионально-ориентированный курс
LOCATION:ГК-2 302
END:VEVENT
BEGIN:VEVENT
UID:64lm@192.168.245.71:3006
SEQUENCE:0
DTSTAMP:20260425T203206Z
DTSTART:20251008T090000Z
DTEND:20251008T104000Z
SUMMARY:Иностранный язык: Базовый курс
LOCATION:ГЗ 252
END:VEVENT
BEGIN:VEVENT
UID:diiw@192.168.245.71:3006
SEQUENCE:0
DTSTAMP:20260425T203206Z
DTSTART:20251008T110000Z
DTEND:20251008T124000Z
SUMMARY:Иностранный язык: Базовый курс
LOCATION:ГЗ 210
END:VEVENT
BEGIN:VEVENT
UID:o6rd@192.168.245.71:3006
SEQUENCE:0
DTSTAMP:20260425T203206Z
DTSTART:20251008T130000Z
DTEND:20251008T144000Z
SUMMARY:Иностранный язык: Базовый курс
LOCATION:9 к. 514
END:VEVENT
BEGIN:VEVENT
UID:9yea@192.168.245.71:3006
SEQUENCE:0
DTSTAMP:20260425T203206Z
DTSTART:20251008T153000Z
DTEND:20251008T171000Z
SUMMARY:Иностранный язык: Базовый курс
LOCATION:ГЗ 208
END:VEVENT
BEGIN:VEVENT
UID:b8dt@192.168.245.71:3006
SEQUENCE:0
DTSTAMP:20260425T203206Z
DTSTART:20251009T070000Z
DTEND:20251009T084000Z
SUMMARY:Иностранный язык: Базовый курс
LOCATION:ГК-2 301а
END:VEVENT
BEGIN:VEVENT
UID:gtjv@192.168.245.71:3006
SEQUENCE:0
DTSTAMP:20260425T203206Z
DTSTART:20251009T090000Z
DTEND:20251009T104000Z
SUMMARY:Иностранный язык: Базовый курс
LOCATION:1 к. 414
END:VEVENT
BEGIN:VEVENT
UID:ya0x@192.168.245.71:3006
SEQUENCE:0
DTSTAMP:20260425T203206Z
DTSTART:20251009T110000Z
DTEND:20251009T125000Z
SUMMARY:Иностранный язык в профессиональной коммуникации\, Английский
LOCATION:ГК 230
END:VEVENT
BEGIN:VEVENT
UID:ao13@192.168.245.71:3006
SEQUENCE:0
DTSTAMP:20260425T203206Z
DTSTART:20251009T130000Z
DTEND:20251009T144000Z
SUMMARY:Иностранный язык в профессиональной деятельности
LOCATION:ГК 230
END:VEVENT
BEGIN:VEVENT
UID:quo0@192.168.245.71:3006
SEQUENCE:0
DTSTAMP:20260425T203206Z
DTSTART:20251011T070000Z
DTEND:20251011T084000Z
SUMMARY:Иностранный язык. Профессионально-ориентированный курс
LOCATION:ГК 230
END:VEVENT
BEGIN:VEVENT
UID:jt13@192.168.245.71:3006
SEQUENCE:0
DTSTAMP:20260425T203206Z
DTSTART:20251011T090000Z
DTEND:20251011T104000Z
SUMMARY:Иностранный язык: Базовый курс
LOCATION:ГК 230
END:VEVENT
BEGIN:VEVENT
UID:hb3y@192.168.245.71:3006
SEQUENCE:0
DTSTAMP:20260425T203206Z
DTSTART:20251011T110000Z
DTEND:20251011T124000Z
SUMMARY:Иностранный язык. Профессионально-ориентированный курс
LOCATION:ГК 230
END:VEVENT
END:VCALENDAR