BEGIN:VCALENDAR
VERSION:2.0
PRODID:-//spbstu.ru//ical//RU
NAME:Расписание
X-WR-CALNAME:Расписание
TIMEZONE-ID:Europe/Moscow
X-WR-TIMEZONE:Europe/Moscow
BEGIN:VEVENT
UID:rhg0@192.168.245.71:3006
SEQUENCE:0
DTSTAMP:20260422T145038Z
DTSTART:20251215T050000Z
DTEND:20251215T064000Z
SUMMARY:Иностранный язык. Профессионально-ориентированный курс
LOCATION:ГК-2 401
END:VEVENT
BEGIN:VEVENT
UID:ozym@192.168.245.71:3006
SEQUENCE:0
DTSTAMP:20260422T145038Z
DTSTART:20251215T070000Z
DTEND:20251215T084000Z
SUMMARY:Иностранный язык: Базовый курс
LOCATION:11 к. 322
END:VEVENT
BEGIN:VEVENT
UID:7h0a@192.168.245.71:3006
SEQUENCE:0
DTSTAMP:20260422T145038Z
DTSTART:20251215T090000Z
DTEND:20251215T104000Z
SUMMARY:Иностранный язык: Базовый курс
LOCATION:ГК-2 110
END:VEVENT
BEGIN:VEVENT
UID:18p9@192.168.245.71:3006
SEQUENCE:0
DTSTAMP:20260422T145038Z
DTSTART:20251215T110000Z
DTEND:20251215T124000Z
SUMMARY:Иностранный язык: Базовый курс
LOCATION:11 к. 326
END:VEVENT
BEGIN:VEVENT
UID:76xg@192.168.245.71:3006
SEQUENCE:0
DTSTAMP:20260422T145038Z
DTSTART:20251216T090000Z
DTEND:20251216T104000Z
SUMMARY:Иностранный язык: Базовый курс
LOCATION:11 к. 324
END:VEVENT
BEGIN:VEVENT
UID:netr@192.168.245.71:3006
SEQUENCE:0
DTSTAMP:20260422T145038Z
DTSTART:20251216T110000Z
DTEND:20251216T124000Z
SUMMARY:Иностранный язык: Базовый курс
LOCATION:ГК-2 401а
END:VEVENT
BEGIN:VEVENT
UID:8zbk@192.168.245.71:3006
SEQUENCE:0
DTSTAMP:20260422T145038Z
DTSTART:20251216T130000Z
DTEND:20251216T144000Z
SUMMARY:Иностранный язык. Профессионально-ориентированный курс
LOCATION:ГК-2 302
END:VEVENT
BEGIN:VEVENT
UID:o7k0@192.168.245.71:3006
SEQUENCE:0
DTSTAMP:20260422T145038Z
DTSTART:20251217T070000Z
DTEND:20251217T090000Z
SUMMARY:Иностранный язык: Базовый курс
LOCATION:1 к. 421
END:VEVENT
BEGIN:VEVENT
UID:e74p@192.168.245.71:3006
SEQUENCE:0
DTSTAMP:20260422T145038Z
DTSTART:20251217T130000Z
DTEND:20251217T154000Z
SUMMARY:Иностранный язык: Базовый курс
LOCATION:11 к. 322
END:VEVENT
BEGIN:VEVENT
UID:o2rt@192.168.245.71:3006
SEQUENCE:0
DTSTAMP:20260422T145038Z
DTSTART:20251218T110000Z
DTEND:20251218T140000Z
SUMMARY:Иностранный язык: Базовый курс
LOCATION:ГЗ 240
END:VEVENT
BEGIN:VEVENT
UID:yjec@192.168.245.71:3006
SEQUENCE:0
DTSTAMP:20260422T145038Z
DTSTART:20251219T110000Z
DTEND:20251219T140000Z
SUMMARY:Иностранный язык: Базовый курс
LOCATION:9 к. 219
END:VEVENT
BEGIN:VEVENT
UID:ijh6@192.168.245.71:3006
SEQUENCE:0
DTSTAMP:20260422T145038Z
DTSTART:20251220T070000Z
DTEND:20251220T084000Z
SUMMARY:Иностранный язык в профессиональной коммуникации\, Английский
LOCATION:ГК-2 302
END:VEVENT
BEGIN:VEVENT
UID:4oph@192.168.245.71:3006
SEQUENCE:0
DTSTAMP:20260422T145038Z
DTSTART:20251220T090000Z
DTEND:20251220T140000Z
SUMMARY:Иностранный язык в профессиональной коммуникации\, Английский
LOCATION:ГК-2 302
END:VEVENT
END:VCALENDAR