BEGIN:VCALENDAR
VERSION:2.0
PRODID:-//spbstu.ru//ical//RU
NAME:Расписание
X-WR-CALNAME:Расписание
TIMEZONE-ID:Europe/Moscow
X-WR-TIMEZONE:Europe/Moscow
BEGIN:VEVENT
UID:1r9w@192.168.245.71:3006
SEQUENCE:0
DTSTAMP:20260422T162909Z
DTSTART:20251208T050000Z
DTEND:20251208T064000Z
SUMMARY:Иностранный язык. Профессионально-ориентированный курс
LOCATION:ГК-2 401
END:VEVENT
BEGIN:VEVENT
UID:7wo3@192.168.245.71:3006
SEQUENCE:0
DTSTAMP:20260422T162909Z
DTSTART:20251208T070000Z
DTEND:20251208T084000Z
SUMMARY:Иностранный язык: Базовый курс
LOCATION:11 к. 322
END:VEVENT
BEGIN:VEVENT
UID:ol51@192.168.245.71:3006
SEQUENCE:0
DTSTAMP:20260422T162909Z
DTSTART:20251208T090000Z
DTEND:20251208T104000Z
SUMMARY:Иностранный язык: Базовый курс
LOCATION:ГК-2 110
END:VEVENT
BEGIN:VEVENT
UID:xrq5@192.168.245.71:3006
SEQUENCE:0
DTSTAMP:20260422T162909Z
DTSTART:20251208T110000Z
DTEND:20251208T124000Z
SUMMARY:Иностранный язык: Базовый курс
LOCATION:11 к. 326
END:VEVENT
BEGIN:VEVENT
UID:5yl3@192.168.245.71:3006
SEQUENCE:0
DTSTAMP:20260422T162909Z
DTSTART:20251209T090000Z
DTEND:20251209T104000Z
SUMMARY:Иностранный язык: Базовый курс
LOCATION:11 к. 324
END:VEVENT
BEGIN:VEVENT
UID:s1tu@192.168.245.71:3006
SEQUENCE:0
DTSTAMP:20260422T162909Z
DTSTART:20251209T110000Z
DTEND:20251209T124000Z
SUMMARY:Иностранный язык: Базовый курс
LOCATION:ГК-2 401а
END:VEVENT
BEGIN:VEVENT
UID:wnyj@192.168.245.71:3006
SEQUENCE:0
DTSTAMP:20260422T162909Z
DTSTART:20251209T130000Z
DTEND:20251209T144000Z
SUMMARY:Иностранный язык. Профессионально-ориентированный курс
LOCATION:ГК-2 302
END:VEVENT
BEGIN:VEVENT
UID:h70y@192.168.245.71:3006
SEQUENCE:0
DTSTAMP:20260422T162909Z
DTSTART:20251210T090000Z
DTEND:20251210T104000Z
SUMMARY:Иностранный язык: Базовый курс
LOCATION:ГЗ 252
END:VEVENT
BEGIN:VEVENT
UID:zwes@192.168.245.71:3006
SEQUENCE:0
DTSTAMP:20260422T162909Z
DTSTART:20251210T110000Z
DTEND:20251210T124000Z
SUMMARY:Иностранный язык: Базовый курс
LOCATION:ГЗ 210
END:VEVENT
BEGIN:VEVENT
UID:dxuf@192.168.245.71:3006
SEQUENCE:0
DTSTAMP:20260422T162909Z
DTSTART:20251210T130000Z
DTEND:20251210T144000Z
SUMMARY:Иностранный язык: Базовый курс
LOCATION:9 к. 514
END:VEVENT
BEGIN:VEVENT
UID:zoaf@192.168.245.71:3006
SEQUENCE:0
DTSTAMP:20260422T162909Z
DTSTART:20251210T153000Z
DTEND:20251210T171000Z
SUMMARY:Иностранный язык: Базовый курс
LOCATION:ГЗ 208
END:VEVENT
BEGIN:VEVENT
UID:rjz1@192.168.245.71:3006
SEQUENCE:0
DTSTAMP:20260422T162909Z
DTSTART:20251211T070000Z
DTEND:20251211T084000Z
SUMMARY:Иностранный язык: Базовый курс
LOCATION:ГК-2 301а
END:VEVENT
BEGIN:VEVENT
UID:mzcn@192.168.245.71:3006
SEQUENCE:0
DTSTAMP:20260422T162909Z
DTSTART:20251211T090000Z
DTEND:20251211T104000Z
SUMMARY:Иностранный язык: Базовый курс
LOCATION:1 к. 414
END:VEVENT
BEGIN:VEVENT
UID:d7ji@192.168.245.71:3006
SEQUENCE:0
DTSTAMP:20260422T162909Z
DTSTART:20251211T110000Z
DTEND:20251211T124000Z
SUMMARY:Иностранный язык в профессиональной коммуникации\, Английский
LOCATION:ГК 230
END:VEVENT
BEGIN:VEVENT
UID:1zii@192.168.245.71:3006
SEQUENCE:0
DTSTAMP:20260422T162909Z
DTSTART:20251213T070000Z
DTEND:20251213T084000Z
SUMMARY:Иностранный язык. Профессионально-ориентированный курс
LOCATION:ГК 230
END:VEVENT
BEGIN:VEVENT
UID:buus@192.168.245.71:3006
SEQUENCE:0
DTSTAMP:20260422T162909Z
DTSTART:20251213T110000Z
DTEND:20251213T124000Z
SUMMARY:Иностранный язык. Профессионально-ориентированный курс
LOCATION:ГК 230
END:VEVENT
END:VCALENDAR