BEGIN:VCALENDAR
VERSION:2.0
PRODID:-//spbstu.ru//ical//RU
NAME:Расписание
X-WR-CALNAME:Расписание
TIMEZONE-ID:Europe/Moscow
X-WR-TIMEZONE:Europe/Moscow
BEGIN:VEVENT
UID:ff0n@192.168.245.71:3006
SEQUENCE:0
DTSTAMP:20260421T122809Z
DTSTART:20260216T090000Z
DTEND:20260216T104000Z
SUMMARY:Иностранный язык: Базовый курс
LOCATION:ГК-2 401а
END:VEVENT
BEGIN:VEVENT
UID:hc5y@192.168.245.71:3006
SEQUENCE:0
DTSTAMP:20260421T122809Z
DTSTART:20260216T110000Z
DTEND:20260216T124000Z
SUMMARY:Иностранный язык: Базовый курс
LOCATION:ГК-2 314
END:VEVENT
BEGIN:VEVENT
UID:cvrt@192.168.245.71:3006
SEQUENCE:0
DTSTAMP:20260421T122809Z
DTSTART:20260216T130000Z
DTEND:20260216T144000Z
SUMMARY:Иностранный язык. Профессионально-ориентированный курс
LOCATION:3 к. 205
END:VEVENT
BEGIN:VEVENT
UID:tyv3@192.168.245.71:3006
SEQUENCE:0
DTSTAMP:20260421T122809Z
DTSTART:20260217T070000Z
DTEND:20260217T084000Z
SUMMARY:Иностранный язык. Профессионально-ориентированный курс
LOCATION:11 к. 309
END:VEVENT
BEGIN:VEVENT
UID:c282@192.168.245.71:3006
SEQUENCE:0
DTSTAMP:20260421T122809Z
DTSTART:20260217T090000Z
DTEND:20260217T104000Z
SUMMARY:Иностранный язык. Профессионально-ориентированный курс
LOCATION:11 к. 309
END:VEVENT
BEGIN:VEVENT
UID:d87k@192.168.245.71:3006
SEQUENCE:0
DTSTAMP:20260421T122809Z
DTSTART:20260217T130000Z
DTEND:20260217T144000Z
SUMMARY:Иностранный язык: Базовый курс
LOCATION:ГЗ 239
END:VEVENT
BEGIN:VEVENT
UID:66nf@192.168.245.71:3006
SEQUENCE:0
DTSTAMP:20260421T122809Z
DTSTART:20260217T150000Z
DTEND:20260217T164000Z
SUMMARY:Иностранный язык: Базовый курс
LOCATION:ГК-2 405
END:VEVENT
BEGIN:VEVENT
UID:3ne6@192.168.245.71:3006
SEQUENCE:0
DTSTAMP:20260421T122809Z
DTSTART:20260217T150000Z
DTEND:20260217T164000Z
SUMMARY:Иностранный язык. Профессионально-ориентированный курс
LOCATION:ГК-2 407
END:VEVENT
BEGIN:VEVENT
UID:jxfy@192.168.245.71:3006
SEQUENCE:0
DTSTAMP:20260421T122809Z
DTSTART:20260217T150000Z
DTEND:20260217T164000Z
SUMMARY:Иностранный язык: Базовый курс
LOCATION:3 к. 503
END:VEVENT
BEGIN:VEVENT
UID:h8jj@192.168.245.71:3006
SEQUENCE:0
DTSTAMP:20260421T122809Z
DTSTART:20260218T090000Z
DTEND:20260218T104000Z
SUMMARY:Иностранный язык. Профессионально-ориентированный курс
LOCATION:11 к. 309
END:VEVENT
BEGIN:VEVENT
UID:d8ym@192.168.245.71:3006
SEQUENCE:0
DTSTAMP:20260421T122809Z
DTSTART:20260218T110000Z
DTEND:20260218T124000Z
SUMMARY:Иностранный язык: Базовый курс
LOCATION:ГК-2 401а
END:VEVENT
BEGIN:VEVENT
UID:t23z@192.168.245.71:3006
SEQUENCE:0
DTSTAMP:20260421T122809Z
DTSTART:20260220T110000Z
DTEND:20260220T124000Z
SUMMARY:Иностранный язык: Базовый курс
LOCATION:ГЗ 219
END:VEVENT
BEGIN:VEVENT
UID:lstt@192.168.245.71:3006
SEQUENCE:0
DTSTAMP:20260421T122809Z
DTSTART:20260220T130000Z
DTEND:20260220T144000Z
SUMMARY:Иностранный язык: Базовый курс
LOCATION:ГЗ 219
END:VEVENT
BEGIN:VEVENT
UID:wnuk@192.168.245.71:3006
SEQUENCE:0
DTSTAMP:20260421T122809Z
DTSTART:20260220T153000Z
DTEND:20260220T171000Z
SUMMARY:Иностранный язык: Базовый курс
LOCATION:ГЗ 219
END:VEVENT
END:VCALENDAR