BEGIN:VCALENDAR
VERSION:2.0
PRODID:-//spbstu.ru//ical//RU
NAME:Расписание
X-WR-CALNAME:Расписание
TIMEZONE-ID:Europe/Moscow
X-WR-TIMEZONE:Europe/Moscow
BEGIN:VEVENT
UID:9xf8@192.168.245.71:3006
SEQUENCE:0
DTSTAMP:20260422T055605Z
DTSTART:20260407T070000Z
DTEND:20260407T084000Z
SUMMARY:Испытания технологических машин и оборудования
LOCATION:1 к. кафедра Автоматы
END:VEVENT
BEGIN:VEVENT
UID:ko9w@192.168.245.71:3006
SEQUENCE:0
DTSTAMP:20260422T055605Z
DTSTART:20260407T110000Z
DTEND:20260407T124000Z
SUMMARY:Машиностроительная схемотехника
LOCATION:1 к. кафедра Автоматы
END:VEVENT
BEGIN:VEVENT
UID:w39h@192.168.245.71:3006
SEQUENCE:0
DTSTAMP:20260422T055605Z
DTSTART:20260407T130000Z
DTEND:20260407T144000Z
SUMMARY:Машиностроительная схемотехника
LOCATION:1 к. кафедра Автоматы
END:VEVENT
BEGIN:VEVENT
UID:rqwp@192.168.245.71:3006
SEQUENCE:0
DTSTAMP:20260422T055605Z
DTSTART:20260408T090000Z
DTEND:20260408T104000Z
SUMMARY:Приводы автоматических машин
LOCATION:1 к. 425
END:VEVENT
BEGIN:VEVENT
UID:75vo@192.168.245.71:3006
SEQUENCE:0
DTSTAMP:20260422T055605Z
DTSTART:20260408T090000Z
DTEND:20260408T104000Z
SUMMARY:Приводы автоматических машин
LOCATION:1 к. 425
END:VEVENT
BEGIN:VEVENT
UID:2t0k@192.168.245.71:3006
SEQUENCE:0
DTSTAMP:20260422T055605Z
DTSTART:20260408T110000Z
DTEND:20260408T124000Z
SUMMARY:Приводы автоматических машин
LOCATION:1 к. кафедра Автоматы
END:VEVENT
BEGIN:VEVENT
UID:acw5@192.168.245.71:3006
SEQUENCE:0
DTSTAMP:20260422T055605Z
DTSTART:20260408T130000Z
DTEND:20260408T144000Z
SUMMARY:Приводы автоматических машин
LOCATION:1 к. кафедра Автоматы
END:VEVENT
BEGIN:VEVENT
UID:ivi1@192.168.245.71:3006
SEQUENCE:0
DTSTAMP:20260422T055605Z
DTSTART:20260409T070000Z
DTEND:20260409T084000Z
SUMMARY:Машиностроительная схемотехника
LOCATION:ГЗ 122
END:VEVENT
BEGIN:VEVENT
UID:gu9t@192.168.245.71:3006
SEQUENCE:0
DTSTAMP:20260422T055605Z
DTSTART:20260410T070000Z
DTEND:20260410T084000Z
SUMMARY:Машиностроительная схемотехника
LOCATION:1 к. кафедра Автоматы
END:VEVENT
BEGIN:VEVENT
UID:1rjz@192.168.245.71:3006
SEQUENCE:0
DTSTAMP:20260422T055605Z
DTSTART:20260410T090000Z
DTEND:20260410T104000Z
SUMMARY:Машиностроительная схемотехника
LOCATION:1 к. кафедра Автоматы
END:VEVENT
END:VCALENDAR