BEGIN:VCALENDAR
VERSION:2.0
PRODID:-//spbstu.ru//ical//RU
NAME:Расписание
X-WR-CALNAME:Расписание
TIMEZONE-ID:Europe/Moscow
X-WR-TIMEZONE:Europe/Moscow
BEGIN:VEVENT
UID:8k5k@192.168.245.71:3006
SEQUENCE:0
DTSTAMP:20260424T022802Z
DTSTART:20251117T110000Z
DTEND:20251117T124000Z
SUMMARY:Физическая химия стеклообразных материалов
LOCATION:Хим. к. 28
END:VEVENT
BEGIN:VEVENT
UID:wcz9@192.168.245.71:3006
SEQUENCE:0
DTSTAMP:20260424T022802Z
DTSTART:20251117T130000Z
DTEND:20251117T144000Z
SUMMARY:Физическая химия стеклообразных материалов
LOCATION:Хим. к. 28
END:VEVENT
BEGIN:VEVENT
UID:kuyg@192.168.245.71:3006
SEQUENCE:0
DTSTAMP:20260424T022802Z
DTSTART:20251118T090000Z
DTEND:20251118T104000Z
SUMMARY:Физическая химия наноструктурированных материалов
LOCATION:Хим. к. 28
END:VEVENT
BEGIN:VEVENT
UID:b2o0@192.168.245.71:3006
SEQUENCE:0
DTSTAMP:20260424T022802Z
DTSTART:20251120T110000Z
DTEND:20251120T124000Z
SUMMARY:Иностранный язык в профессиональной коммуникации\, Английский
LOCATION:Хим. к. 28
END:VEVENT
BEGIN:VEVENT
UID:yz7h@192.168.245.71:3006
SEQUENCE:0
DTSTAMP:20260424T022802Z
DTSTART:20251120T130000Z
DTEND:20251120T144000Z
SUMMARY:Оптические методы исследования в материаловедении
LOCATION:Хим. к. 28
END:VEVENT
END:VCALENDAR