BEGIN:VCALENDAR
VERSION:2.0
PRODID:-//spbstu.ru//ical//RU
NAME:Расписание
X-WR-CALNAME:Расписание
TIMEZONE-ID:Europe/Moscow
X-WR-TIMEZONE:Europe/Moscow
BEGIN:VEVENT
UID:6ppq@192.168.245.71:3006
SEQUENCE:0
DTSTAMP:20260423T195338Z
DTSTART:20251215T110000Z
DTEND:20251215T124000Z
SUMMARY:Физическая химия стеклообразных материалов
LOCATION:Хим. к. 28
END:VEVENT
BEGIN:VEVENT
UID:7tpi@192.168.245.71:3006
SEQUENCE:0
DTSTAMP:20260423T195338Z
DTSTART:20251216T090000Z
DTEND:20251216T104000Z
SUMMARY:Физическая химия наноструктурированных материалов
LOCATION:Хим. к. 28
END:VEVENT
BEGIN:VEVENT
UID:wbj3@192.168.245.71:3006
SEQUENCE:0
DTSTAMP:20260423T195338Z
DTSTART:20251218T110000Z
DTEND:20251218T140000Z
SUMMARY:Оптические методы исследования и контроля материалов и изделий мик
 росистемной техники
LOCATION:Хим. к. 28
END:VEVENT
BEGIN:VEVENT
UID:7wmd@192.168.245.71:3006
SEQUENCE:0
DTSTAMP:20260423T195338Z
DTSTART:20251218T140000Z
DTEND:20251218T144500Z
SUMMARY:Физическая химия стеклообразных материалов
LOCATION:Хим. к. 34
END:VEVENT
BEGIN:VEVENT
UID:2zu7@192.168.245.71:3006
SEQUENCE:0
DTSTAMP:20260423T195338Z
DTSTART:20251219T110000Z
DTEND:20251219T140000Z
SUMMARY:Физическая химия стеклообразных материалов
LOCATION:Хим. к. 34
END:VEVENT
END:VCALENDAR