BEGIN:VCALENDAR
VERSION:2.0
PRODID:-//spbstu.ru//ical//RU
NAME:Расписание
X-WR-CALNAME:Расписание
TIMEZONE-ID:Europe/Moscow
X-WR-TIMEZONE:Europe/Moscow
BEGIN:VEVENT
UID:n7ii@192.168.245.71:3006
SEQUENCE:0
DTSTAMP:20260423T145048Z
DTSTART:20251208T110000Z
DTEND:20251208T124000Z
SUMMARY:Физическая химия стеклообразных материалов
LOCATION:Хим. к. 28
END:VEVENT
BEGIN:VEVENT
UID:dokt@192.168.245.71:3006
SEQUENCE:0
DTSTAMP:20260423T145048Z
DTSTART:20251208T130000Z
DTEND:20251208T144000Z
SUMMARY:Физическая химия наноструктурированных материалов
LOCATION:Хим. к. 28
END:VEVENT
BEGIN:VEVENT
UID:4h2c@192.168.245.71:3006
SEQUENCE:0
DTSTAMP:20260423T145048Z
DTSTART:20251209T090000Z
DTEND:20251209T104000Z
SUMMARY:Физическая химия наноструктурированных материалов
LOCATION:Хим. к. 28
END:VEVENT
BEGIN:VEVENT
UID:ui9w@192.168.245.71:3006
SEQUENCE:0
DTSTAMP:20260423T145048Z
DTSTART:20251209T130000Z
DTEND:20251209T144000Z
SUMMARY:Оптические методы исследования в материаловедении
LOCATION:Хим. к. 28
END:VEVENT
BEGIN:VEVENT
UID:2p4e@192.168.245.71:3006
SEQUENCE:0
DTSTAMP:20260423T145048Z
DTSTART:20251211T110000Z
DTEND:20251211T124000Z
SUMMARY:Иностранный язык в профессиональной коммуникации\, Английский
LOCATION:Хим. к. 28
END:VEVENT
BEGIN:VEVENT
UID:jg53@192.168.245.71:3006
SEQUENCE:0
DTSTAMP:20260423T145048Z
DTSTART:20251211T150000Z
DTEND:20251211T164000Z
SUMMARY:Оптические методы исследования и контроля материалов и изделий мик
 росистемной техники
LOCATION:Хим. к. 34
END:VEVENT
END:VCALENDAR