BEGIN:VCALENDAR
VERSION:2.0
PRODID:-//spbstu.ru//ical//RU
NAME:Расписание
X-WR-CALNAME:Расписание
TIMEZONE-ID:Europe/Moscow
X-WR-TIMEZONE:Europe/Moscow
BEGIN:VEVENT
UID:mm0p@192.168.245.71:3006
SEQUENCE:0
DTSTAMP:20260421T184053Z
DTSTART:20260310T110000Z
DTEND:20260310T124000Z
SUMMARY:Тепловые свойства материалов и явления переноса
LOCATION:Хим. к. 28
END:VEVENT
BEGIN:VEVENT
UID:966z@192.168.245.71:3006
SEQUENCE:0
DTSTAMP:20260421T184053Z
DTSTART:20260310T130000Z
DTEND:20260310T144000Z
SUMMARY:Тепловые свойства материалов и явления переноса
LOCATION:Хим. к. 28
END:VEVENT
BEGIN:VEVENT
UID:p3av@192.168.245.71:3006
SEQUENCE:0
DTSTAMP:20260421T184053Z
DTSTART:20260313T110000Z
DTEND:20260313T124000Z
SUMMARY:Процессы на поверхности раздела фаз
LOCATION:Хим. к. 28
END:VEVENT
BEGIN:VEVENT
UID:6qbn@192.168.245.71:3006
SEQUENCE:0
DTSTAMP:20260421T184053Z
DTSTART:20260313T130000Z
DTEND:20260313T144000Z
SUMMARY:Процессы на поверхности раздела фаз
LOCATION:Хим. к. 28
END:VEVENT
END:VCALENDAR