BEGIN:VCALENDAR
VERSION:2.0
PRODID:-//spbstu.ru//ical//RU
NAME:Расписание
X-WR-CALNAME:Расписание
TIMEZONE-ID:Europe/Moscow
X-WR-TIMEZONE:Europe/Moscow
BEGIN:VEVENT
UID:dndr@192.168.245.71:3006
SEQUENCE:0
DTSTAMP:20260421T084638Z
DTSTART:20260428T110000Z
DTEND:20260428T124000Z
SUMMARY:Тепловые свойства материалов и явления переноса
LOCATION:Хим. к. 28
END:VEVENT
BEGIN:VEVENT
UID:a7wo@192.168.245.71:3006
SEQUENCE:0
DTSTAMP:20260421T084638Z
DTSTART:20260428T130000Z
DTEND:20260428T144000Z
SUMMARY:Тепловые свойства материалов и явления переноса
LOCATION:Хим. к. 28
END:VEVENT
END:VCALENDAR