BEGIN:VCALENDAR
VERSION:2.0
PRODID:-//spbstu.ru//ical//RU
NAME:Расписание
X-WR-CALNAME:Расписание
TIMEZONE-ID:Europe/Moscow
X-WR-TIMEZONE:Europe/Moscow
BEGIN:VEVENT
UID:7d11@192.168.245.71:3006
SEQUENCE:0
DTSTAMP:20260422T181014Z
DTSTART:20251020T080000Z
DTEND:20251020T085000Z
SUMMARY:Специальный практикум
LOCATION:2 к. 117
END:VEVENT
BEGIN:VEVENT
UID:mnh3@192.168.245.71:3006
SEQUENCE:0
DTSTAMP:20260422T181014Z
DTSTART:20251020T130000Z
DTEND:20251020T144000Z
SUMMARY:Ускорители заряженных частиц
LOCATION:2 к. 127
END:VEVENT
BEGIN:VEVENT
UID:my2f@192.168.245.71:3006
SEQUENCE:0
DTSTAMP:20260422T181014Z
DTSTART:20251020T150000Z
DTEND:20251020T164000Z
SUMMARY:Ускорители заряженных частиц
LOCATION:2 к. 127
END:VEVENT
BEGIN:VEVENT
UID:7e7r@192.168.245.71:3006
SEQUENCE:0
DTSTAMP:20260422T181014Z
DTSTART:20251023T110000Z
DTEND:20251023T124000Z
SUMMARY:Теория переноса нейтронов
LOCATION:ГЗ 153
END:VEVENT
BEGIN:VEVENT
UID:fbl4@192.168.245.71:3006
SEQUENCE:0
DTSTAMP:20260422T181014Z
DTSTART:20251023T130000Z
DTEND:20251023T150000Z
SUMMARY:Экспериментальные методы ядерной физики
LOCATION:2 к. 116
END:VEVENT
BEGIN:VEVENT
UID:0frt@192.168.245.71:3006
SEQUENCE:0
DTSTAMP:20260422T181014Z
DTSTART:20251023T130000Z
DTEND:20251023T150000Z
SUMMARY:Экспериментальные методы ядерной физики
LOCATION:2 к. 116
END:VEVENT
BEGIN:VEVENT
UID:cabd@192.168.245.71:3006
SEQUENCE:0
DTSTAMP:20260422T181014Z
DTSTART:20251023T150000Z
DTEND:20251023T164000Z
SUMMARY:Механизмы взаимодействия излучений с веществом
LOCATION:2 к. 117
END:VEVENT
BEGIN:VEVENT
UID:6e9m@192.168.245.71:3006
SEQUENCE:0
DTSTAMP:20260422T181014Z
DTSTART:20251023T170000Z
DTEND:20251023T175000Z
SUMMARY:Механизмы взаимодействия излучений с веществом
LOCATION:2 к. 117
END:VEVENT
BEGIN:VEVENT
UID:px90@192.168.245.71:3006
SEQUENCE:0
DTSTAMP:20260422T181014Z
DTSTART:20251025T120000Z
DTEND:20251025T125000Z
SUMMARY:Ускорители заряженных частиц
LOCATION:2 к. 127
END:VEVENT
BEGIN:VEVENT
UID:ayzw@192.168.245.71:3006
SEQUENCE:0
DTSTAMP:20260422T181014Z
DTSTART:20251025T130000Z
DTEND:20251025T144000Z
SUMMARY:Ускорители заряженных частиц
LOCATION:2 к. 127
END:VEVENT
END:VCALENDAR