BEGIN:VCALENDAR
VERSION:2.0
PRODID:-//spbstu.ru//ical//RU
NAME:Расписание
X-WR-CALNAME:Расписание
TIMEZONE-ID:Europe/Moscow
X-WR-TIMEZONE:Europe/Moscow
BEGIN:VEVENT
UID:lkvx@192.168.245.71:3006
SEQUENCE:0
DTSTAMP:20260422T020044Z
DTSTART:20251224T090000Z
DTEND:20251224T130000Z
SUMMARY:Специальный практикум
LOCATION:2 к. 117
END:VEVENT
BEGIN:VEVENT
UID:onzg@192.168.245.71:3006
SEQUENCE:0
DTSTAMP:20260422T020044Z
DTSTART:20251225T110000Z
DTEND:20251225T140000Z
SUMMARY:Механизмы взаимодействия излучений с веществом
LOCATION:2 к. 265
END:VEVENT
BEGIN:VEVENT
UID:706p@192.168.245.71:3006
SEQUENCE:0
DTSTAMP:20260422T020044Z
DTSTART:20251226T080000Z
DTEND:20251226T090000Z
SUMMARY:Ускорители заряженных частиц
LOCATION:2 к. 265
END:VEVENT
BEGIN:VEVENT
UID:r3n0@192.168.245.71:3006
SEQUENCE:0
DTSTAMP:20260422T020044Z
DTSTART:20251226T090000Z
DTEND:20251226T140000Z
SUMMARY:Ускорители заряженных частиц
LOCATION:2 к. 265
END:VEVENT
END:VCALENDAR