BEGIN:VCALENDAR
VERSION:2.0
PRODID:-//spbstu.ru//ical//RU
NAME:Расписание
X-WR-CALNAME:Расписание
TIMEZONE-ID:Europe/Moscow
X-WR-TIMEZONE:Europe/Moscow
BEGIN:VEVENT
UID:b8zq@192.168.245.71:3006
SEQUENCE:0
DTSTAMP:20260422T234120Z
DTSTART:20260203T090000Z
DTEND:20260203T124000Z
SUMMARY:Электрические машины
LOCATION:ГЗ 218
END:VEVENT
BEGIN:VEVENT
UID:3r2k@192.168.245.71:3006
SEQUENCE:0
DTSTAMP:20260422T234120Z
DTSTART:20260203T130000Z
DTEND:20260203T144000Z
SUMMARY:Проектирование электрических машин
LOCATION:Мех. к. 11
END:VEVENT
BEGIN:VEVENT
UID:gcge@192.168.245.71:3006
SEQUENCE:0
DTSTAMP:20260422T234120Z
DTSTART:20260206T110000Z
DTEND:20260206T144000Z
SUMMARY:Электрические машины
LOCATION:Мех. к. Конференц.зал
END:VEVENT
END:VCALENDAR