BEGIN:VCALENDAR
VERSION:2.0
PRODID:-//spbstu.ru//ical//RU
NAME:Расписание
X-WR-CALNAME:Расписание
TIMEZONE-ID:Europe/Moscow
X-WR-TIMEZONE:Europe/Moscow
BEGIN:VEVENT
UID:2lv2@192.168.245.71:3006
SEQUENCE:0
DTSTAMP:20260421T233052Z
DTSTART:20260303T090000Z
DTEND:20260303T124000Z
SUMMARY:Электрические машины
LOCATION:ГЗ 218
END:VEVENT
BEGIN:VEVENT
UID:ewo3@192.168.245.71:3006
SEQUENCE:0
DTSTAMP:20260421T233052Z
DTSTART:20260303T130000Z
DTEND:20260303T144000Z
SUMMARY:Проектирование электрических машин
LOCATION:Мех. к. 11
END:VEVENT
BEGIN:VEVENT
UID:qpi3@192.168.245.71:3006
SEQUENCE:0
DTSTAMP:20260421T233052Z
DTSTART:20260306T110000Z
DTEND:20260306T144000Z
SUMMARY:Электрические машины
LOCATION:Мех. к. Конференц.зал
END:VEVENT
END:VCALENDAR