BEGIN:VCALENDAR
VERSION:2.0
PRODID:-//spbstu.ru//ical//RU
NAME:Расписание
X-WR-CALNAME:Расписание
TIMEZONE-ID:Europe/Moscow
X-WR-TIMEZONE:Europe/Moscow
BEGIN:VEVENT
UID:bvpz@192.168.245.71:3006
SEQUENCE:0
DTSTAMP:20260421T150414Z
DTSTART:20260323T090000Z
DTEND:20260323T104000Z
SUMMARY:Проектирование электрических машин
LOCATION:ГЗ 163
END:VEVENT
BEGIN:VEVENT
UID:s1yi@192.168.245.71:3006
SEQUENCE:0
DTSTAMP:20260421T150414Z
DTSTART:20260323T110000Z
DTEND:20260323T124000Z
SUMMARY:Проектирование электрических машин
LOCATION:ГЗ 163
END:VEVENT
BEGIN:VEVENT
UID:wkve@192.168.245.71:3006
SEQUENCE:0
DTSTAMP:20260421T150414Z
DTSTART:20260324T090000Z
DTEND:20260324T124000Z
SUMMARY:Электрические машины
LOCATION:ГЗ 218
END:VEVENT
BEGIN:VEVENT
UID:zbkf@192.168.245.71:3006
SEQUENCE:0
DTSTAMP:20260421T150414Z
DTSTART:20260324T130000Z
DTEND:20260324T144000Z
SUMMARY:Проектирование электрических машин
LOCATION:Мех. к. 11
END:VEVENT
END:VCALENDAR