BEGIN:VCALENDAR
VERSION:2.0
PRODID:-//spbstu.ru//ical//RU
NAME:Расписание
X-WR-CALNAME:Расписание
TIMEZONE-ID:Europe/Moscow
X-WR-TIMEZONE:Europe/Moscow
BEGIN:VEVENT
UID:3cof@192.168.245.71:3006
SEQUENCE:0
DTSTAMP:20260421T085551Z
DTSTART:20260406T090000Z
DTEND:20260406T104000Z
SUMMARY:Проектирование электрических машин
LOCATION:ГЗ 163
END:VEVENT
BEGIN:VEVENT
UID:lor3@192.168.245.71:3006
SEQUENCE:0
DTSTAMP:20260421T085551Z
DTSTART:20260406T110000Z
DTEND:20260406T124000Z
SUMMARY:Проектирование электрических машин
LOCATION:ГЗ 163
END:VEVENT
BEGIN:VEVENT
UID:9qjp@192.168.245.71:3006
SEQUENCE:0
DTSTAMP:20260421T085551Z
DTSTART:20260407T090000Z
DTEND:20260407T124000Z
SUMMARY:Электрические машины
LOCATION:ГЗ 218
END:VEVENT
BEGIN:VEVENT
UID:ll28@192.168.245.71:3006
SEQUENCE:0
DTSTAMP:20260421T085551Z
DTSTART:20260407T130000Z
DTEND:20260407T144000Z
SUMMARY:Проектирование электрических машин
LOCATION:Мех. к. 11
END:VEVENT
END:VCALENDAR