BEGIN:VCALENDAR
VERSION:2.0
PRODID:-//spbstu.ru//ical//RU
NAME:Расписание
X-WR-CALNAME:Расписание
TIMEZONE-ID:Europe/Moscow
X-WR-TIMEZONE:Europe/Moscow
BEGIN:VEVENT
UID:fobl@192.168.245.71:3006
SEQUENCE:0
DTSTAMP:20260423T170831Z
DTSTART:20251125T070000Z
DTEND:20251125T084000Z
SUMMARY:Ценообразование в строительстве
LOCATION:ГК-2 513
END:VEVENT
BEGIN:VEVENT
UID:ixk4@192.168.245.71:3006
SEQUENCE:0
DTSTAMP:20260423T170831Z
DTSTART:20251125T110000Z
DTEND:20251125T124000Z
SUMMARY:Ценообразование в строительстве
LOCATION:ГК-2 310
END:VEVENT
BEGIN:VEVENT
UID:s9zm@192.168.245.71:3006
SEQUENCE:0
DTSTAMP:20260423T170831Z
DTSTART:20251125T130000Z
DTEND:20251125T144000Z
SUMMARY:Ценообразование в строительстве
LOCATION:ГК-2 310
END:VEVENT
BEGIN:VEVENT
UID:5u2h@192.168.245.71:3006
SEQUENCE:0
DTSTAMP:20260423T170831Z
DTSTART:20251127T090000Z
DTEND:20251127T104000Z
SUMMARY:Управление рисками в инвестиционно-строительных проектах
LOCATION:ГК-2 504
END:VEVENT
END:VCALENDAR