BEGIN:VCALENDAR
VERSION:2.0
PRODID:-//spbstu.ru//ical//RU
NAME:Расписание
X-WR-CALNAME:Расписание
TIMEZONE-ID:Europe/Moscow
X-WR-TIMEZONE:Europe/Moscow
BEGIN:VEVENT
UID:begx@192.168.245.71:3006
SEQUENCE:0
DTSTAMP:20260422T070839Z
DTSTART:20260224T070000Z
DTEND:20260224T084000Z
SUMMARY:Экономика строительства
LOCATION:ГК-2 504
END:VEVENT
BEGIN:VEVENT
UID:i86q@192.168.245.71:3006
SEQUENCE:0
DTSTAMP:20260422T070839Z
DTSTART:20260224T090000Z
DTEND:20260224T104000Z
SUMMARY:Образовательный форсайт
LOCATION:ГК-2 210
END:VEVENT
BEGIN:VEVENT
UID:qqcx@192.168.245.71:3006
SEQUENCE:0
DTSTAMP:20260422T070839Z
DTSTART:20260224T110000Z
DTEND:20260224T124000Z
SUMMARY:НИРМ
LOCATION:ГК-2 210
END:VEVENT
BEGIN:VEVENT
UID:tpct@192.168.245.71:3006
SEQUENCE:0
DTSTAMP:20260422T070839Z
DTSTART:20260226T090000Z
DTEND:20260226T104000Z
SUMMARY:Экономика строительства
LOCATION:ГК-2 407
END:VEVENT
BEGIN:VEVENT
UID:luhs@192.168.245.71:3006
SEQUENCE:0
DTSTAMP:20260422T070839Z
DTSTART:20260227T090000Z
DTEND:20260227T104000Z
SUMMARY:Экономика строительства
LOCATION:ГК-2 310
END:VEVENT
BEGIN:VEVENT
UID:c087@192.168.245.71:3006
SEQUENCE:0
DTSTAMP:20260422T070839Z
DTSTART:20260227T110000Z
DTEND:20260227T124000Z
SUMMARY:Экономика строительства
LOCATION:ГК-2 310
END:VEVENT
BEGIN:VEVENT
UID:55r4@192.168.245.71:3006
SEQUENCE:0
DTSTAMP:20260422T070839Z
DTSTART:20260227T150000Z
DTEND:20260227T164000Z
SUMMARY:Ценообразование в строительстве
LOCATION:ГК-2 310
END:VEVENT
END:VCALENDAR